BEGIN:VCALENDAR
VERSION:2.0
PRODID:-//Camden County College - ECPv6.15.18//NONSGML v1.0//EN
CALSCALE:GREGORIAN
METHOD:PUBLISH
X-WR-CALNAME:Camden County College
X-ORIGINAL-URL:https://www.camdencc.edu
X-WR-CALDESC:Events for Camden County College
REFRESH-INTERVAL;VALUE=DURATION:PT1H
X-Robots-Tag:noindex
X-PUBLISHED-TTL:PT1H
BEGIN:VTIMEZONE
TZID:America/New_York
BEGIN:DAYLIGHT
TZOFFSETFROM:-0500
TZOFFSETTO:-0400
TZNAME:EDT
DTSTART:20250309T070000
END:DAYLIGHT
BEGIN:STANDARD
TZOFFSETFROM:-0400
TZOFFSETTO:-0500
TZNAME:EST
DTSTART:20251102T060000
END:STANDARD
BEGIN:DAYLIGHT
TZOFFSETFROM:-0500
TZOFFSETTO:-0400
TZNAME:EDT
DTSTART:20260308T070000
END:DAYLIGHT
BEGIN:STANDARD
TZOFFSETFROM:-0400
TZOFFSETTO:-0500
TZNAME:EST
DTSTART:20261101T060000
END:STANDARD
BEGIN:DAYLIGHT
TZOFFSETFROM:-0500
TZOFFSETTO:-0400
TZNAME:EDT
DTSTART:20270314T070000
END:DAYLIGHT
BEGIN:STANDARD
TZOFFSETFROM:-0400
TZOFFSETTO:-0500
TZNAME:EST
DTSTART:20271107T060000
END:STANDARD
END:VTIMEZONE
BEGIN:VEVENT
DTSTART;TZID=America/New_York:20260506T070000
DTEND;TZID=America/New_York:20260506T190000
DTSTAMP:20260421T104837
CREATED:20260414T141617Z
LAST-MODIFIED:20260414T142241Z
UID:10003730-1778050800-1778094000@www.camdencc.edu
SUMMARY:Hybrid Transfer Open House: Wilmington University
DESCRIPTION:Join Wilmington University at its Open House on Wednesday\, May 6. Stop by online from 7 a.m. – 7 p.m. or in person at WilmU’s New Castle Campus from 3 – 7 p.m. Connect with WilmU staff\, browse academic programs\, learn how to save time and money with Dual-Credit ADVANTAGE™ and more. Plus\, join special information sessions throughout the day. \n To RSVP\, please visit wilmu.edu/OpenHouse \n  \nBenefits of attending WilmU’s Virtual Open House: \n\nAttend information sessions throughout the day about paying for your education\, using your military education benefits and more.\nConnect with WilmU staff to explore financial aid\, credit for your work experience\, admissions requirements\, student life and more.  \nBrowse 200+ academic programs to find options that align with your experience and goals. More than 150 are offered entirely online\, and our 80+ industry-leading graduate programs will elevate your career to new heights.\nLearn how you can accelerate your education while saving time and tuition dollars with our Dual-Credit ADVANTAGE™.\nFind out how to complete your degree using various sources\, including military experience\, industry training\, standardized tests and up to 90 credits of prior college-level coursework.
URL:https://www.camdencc.edu/event/transfer-open-house-wilmington-university/
LOCATION:Wilmington University – New Castle\, DE\, 320 N Dupont Hwy\, New Castle\, DE\, 19720\, United States
CATEGORIES:General Event,Transfer Events,Transfer Open House,Virtual Open House,Virtual Transfer,Wilmington University
ORGANIZER;CN="Wilmington University":MAILTO:recruiting@wilmu.edu
END:VEVENT
END:VCALENDAR