BEGIN:VCALENDAR
VERSION:2.0
PRODID:-//Camden County College - ECPv6.15.20//NONSGML v1.0//EN
CALSCALE:GREGORIAN
METHOD:PUBLISH
X-ORIGINAL-URL:https://www.camdencc.edu
X-WR-CALDESC:Events for Camden County College
REFRESH-INTERVAL;VALUE=DURATION:PT1H
X-Robots-Tag:noindex
X-PUBLISHED-TTL:PT1H
BEGIN:VTIMEZONE
TZID:America/New_York
BEGIN:DAYLIGHT
TZOFFSETFROM:-0500
TZOFFSETTO:-0400
TZNAME:EDT
DTSTART:20250309T070000
END:DAYLIGHT
BEGIN:STANDARD
TZOFFSETFROM:-0400
TZOFFSETTO:-0500
TZNAME:EST
DTSTART:20251102T060000
END:STANDARD
BEGIN:DAYLIGHT
TZOFFSETFROM:-0500
TZOFFSETTO:-0400
TZNAME:EDT
DTSTART:20260308T070000
END:DAYLIGHT
BEGIN:STANDARD
TZOFFSETFROM:-0400
TZOFFSETTO:-0500
TZNAME:EST
DTSTART:20261101T060000
END:STANDARD
BEGIN:DAYLIGHT
TZOFFSETFROM:-0500
TZOFFSETTO:-0400
TZNAME:EDT
DTSTART:20270314T070000
END:DAYLIGHT
BEGIN:STANDARD
TZOFFSETFROM:-0400
TZOFFSETTO:-0500
TZNAME:EST
DTSTART:20271107T060000
END:STANDARD
END:VTIMEZONE
BEGIN:VEVENT
DTSTART;TZID=America/New_York:20260423T163000
DTEND;TZID=America/New_York:20260423T193000
DTSTAMP:20260423T230047
CREATED:20260422T143545Z
LAST-MODIFIED:20260422T143754Z
UID:10003733-1776961800-1776972600@www.camdencc.edu
SUMMARY:57th Annual Student Art
DESCRIPTION:Join us for the 57th Annual Student Art Exhibition at the Marlin Gallery! \nExplore diverse visual arts—painting\, drawing\, photography\, sculpture\, ceramics\, graphic arts\, and film—while enjoying light refreshments and celebrating Camden County College’s talented young artists. \nExhibition:\nThursday\, April 23 – Friday\, May 7\, 2025 \nOpening Reception:\nThursday\, April 23\, 4:30 – 7:30 p.m. Award Ceremony at 6 p.m. \nGallery Hours:\nMonday – Friday 9 a.m. – 4 p.m. Admission is free and open to the general public.
URL:https://www.camdencc.edu/event/57th-annual-student-art/
LOCATION:Marlin Art Gallery\, 200 College Drive\, Blackwood\, NJ\, 08012\, United States
CATEGORIES:Arts,Student Life & Activities
ORGANIZER;CN="Arts at Camden County College":MAILTO:arts@camdencc.edu
GEO:39.7843861;-75.0482048
X-APPLE-STRUCTURED-LOCATION;VALUE=URI;X-ADDRESS=Marlin Art Gallery 200 College Drive Blackwood NJ 08012 United States;X-APPLE-RADIUS=500;X-TITLE=200 College Drive:geo:-75.0482048,39.7843861
END:VEVENT
END:VCALENDAR