BEGIN:VCALENDAR
VERSION:2.0
PRODID:-//Camden County College - ECPv6.15.18//NONSGML v1.0//EN
CALSCALE:GREGORIAN
METHOD:PUBLISH
X-ORIGINAL-URL:https://www.camdencc.edu
X-WR-CALDESC:Events for Camden County College
REFRESH-INTERVAL;VALUE=DURATION:PT1H
X-Robots-Tag:noindex
X-PUBLISHED-TTL:PT1H
BEGIN:VTIMEZONE
TZID:America/New_York
BEGIN:DAYLIGHT
TZOFFSETFROM:-0500
TZOFFSETTO:-0400
TZNAME:EDT
DTSTART:20250309T070000
END:DAYLIGHT
BEGIN:STANDARD
TZOFFSETFROM:-0400
TZOFFSETTO:-0500
TZNAME:EST
DTSTART:20251102T060000
END:STANDARD
BEGIN:DAYLIGHT
TZOFFSETFROM:-0500
TZOFFSETTO:-0400
TZNAME:EDT
DTSTART:20260308T070000
END:DAYLIGHT
BEGIN:STANDARD
TZOFFSETFROM:-0400
TZOFFSETTO:-0500
TZNAME:EST
DTSTART:20261101T060000
END:STANDARD
BEGIN:DAYLIGHT
TZOFFSETFROM:-0500
TZOFFSETTO:-0400
TZNAME:EDT
DTSTART:20270314T070000
END:DAYLIGHT
BEGIN:STANDARD
TZOFFSETFROM:-0400
TZOFFSETTO:-0500
TZNAME:EST
DTSTART:20271107T060000
END:STANDARD
END:VTIMEZONE
BEGIN:VEVENT
DTSTART;TZID=America/New_York:20260212T100000
DTEND;TZID=America/New_York:20260212T140000
DTSTAMP:20260419T122100
CREATED:20251106T161400Z
LAST-MODIFIED:20260106T154924Z
UID:10001732-1770890400-1770904800@www.camdencc.edu
SUMMARY:4-Year College Visit @ Blackwood: Stockton University and Grand Canyon University
DESCRIPTION:Start thinking about the transfer process to a four-year institution! Stop by and speak to the transfer representatives from Stockton University and Grand Canyon University to learn more about the admissions process\, scholarships\, GPA requirements\, student life\, and application deadlines! \nPlease note this table visit is located in the Connector Terrace on the Blackwood Campus in the Connector Building. \nCurrent CCC students interested in receiving additional or service accommodations for this event\, should reach out to The Accessibility Center at accessibilityservice@camdencc.edu or (856) 227-7200 ext. 4430.
URL:https://www.camdencc.edu/event/4-year-college-visit-blackwood-wilmington-university/
LOCATION:Connector Terrace – 2nd Floor\, 200 College Dr\, Blackwood\, New Jersey\, 08012
CATEGORIES:Blackwood Campus,College Table Visits,General Event,Stockton,Transfer Events
ORGANIZER;CN="Transfer Services":MAILTO:transferservices@camdencc.edu
END:VEVENT
BEGIN:VEVENT
DTSTART;TZID=America/New_York:20260127T100000
DTEND;TZID=America/New_York:20260127T140000
DTSTAMP:20260419T122100
CREATED:20251106T151512Z
LAST-MODIFIED:20260126T211923Z
UID:10001731-1769508000-1769522400@www.camdencc.edu
SUMMARY:CANCELED: 4-Year College Visit @ Blackwood: Rutgers New Brunswick School of Nursing\, Wilmington University and Saint Joseph's University
DESCRIPTION:This event is canceled due to inclement weather and Camden County College being closed on Tuesday\, January 27th. Students are encouraged to attend the upcoming transfer fair at the Blackwood Campus on Thursday\, February 5th to meet with these four-year representatives.
URL:https://www.camdencc.edu/event/4-year-college-visit-blackwood-rutgers-new-brunswick-school-of-nursing/
LOCATION:Connector Terrace – 2nd Floor\, 200 College Dr\, Blackwood\, New Jersey\, 08012
CATEGORIES:Blackwood Campus,College Table Visits,General Event,Rutgers New Brunswick School of Nursing @ Blackwood,Rutgers New Brunswick School of Nursing @ Blackwood,Transfer Events,Wilmington University
ORGANIZER;CN="Transfer Services":MAILTO:transferservices@camdencc.edu
END:VEVENT
END:VCALENDAR