BEGIN:VCALENDAR
VERSION:2.0
PRODID:-//Camden County College - ECPv6.15.18//NONSGML v1.0//EN
CALSCALE:GREGORIAN
METHOD:PUBLISH
X-ORIGINAL-URL:https://www.camdencc.edu
X-WR-CALDESC:Events for Camden County College
REFRESH-INTERVAL;VALUE=DURATION:PT1H
X-Robots-Tag:noindex
X-PUBLISHED-TTL:PT1H
BEGIN:VTIMEZONE
TZID:America/New_York
BEGIN:DAYLIGHT
TZOFFSETFROM:-0500
TZOFFSETTO:-0400
TZNAME:EDT
DTSTART:20250309T070000
END:DAYLIGHT
BEGIN:STANDARD
TZOFFSETFROM:-0400
TZOFFSETTO:-0500
TZNAME:EST
DTSTART:20251102T060000
END:STANDARD
BEGIN:DAYLIGHT
TZOFFSETFROM:-0500
TZOFFSETTO:-0400
TZNAME:EDT
DTSTART:20260308T070000
END:DAYLIGHT
BEGIN:STANDARD
TZOFFSETFROM:-0400
TZOFFSETTO:-0500
TZNAME:EST
DTSTART:20261101T060000
END:STANDARD
BEGIN:DAYLIGHT
TZOFFSETFROM:-0500
TZOFFSETTO:-0400
TZNAME:EDT
DTSTART:20270314T070000
END:DAYLIGHT
BEGIN:STANDARD
TZOFFSETFROM:-0400
TZOFFSETTO:-0500
TZNAME:EST
DTSTART:20271107T060000
END:STANDARD
END:VTIMEZONE
BEGIN:VEVENT
DTSTART;VALUE=DATE:20260206
DTEND;VALUE=DATE:20260313
DTSTAMP:20260420T000158
CREATED:20260121T152222Z
LAST-MODIFIED:20260311T122532Z
UID:10001816-1770336000-1773359999@www.camdencc.edu
SUMMARY:New Myths & Archetypes: Finding the Story an exhibition in the Marlin Gallery
DESCRIPTION:February 6 – March 12\, 2026\nArtist Reception: Thursday\, February 19\, 5-7pm\nArtists: Lea Barone\, Anthony Ciambella\, Mikel Elam\, Richard Ranck \nGallery Hours:\nMonday – Friday: 10:00 a.m. to 5:00 p.m.\nEvenings and Weekends by request
URL:https://www.camdencc.edu/event/new-myths-archetypes-finding-the-story-an-exhibition-in-the-marlin-gallery/2026-02-06/1/
LOCATION:NJ
CATEGORIES:Arts,Marlin Art Gallery,No Homepage
END:VEVENT
BEGIN:VEVENT
DTSTART;TZID=America/New_York:20260223T083000
DTEND;TZID=America/New_York:20260223T160000
DTSTAMP:20260420T000158
CREATED:20260115T164020Z
LAST-MODIFIED:20260115T164020Z
UID:10001805-1771835400-1771862400@www.camdencc.edu
SUMMARY:Advising Day: Stockton University
DESCRIPTION:Are you interested in transferring to Stockton University? Meet with James Rodia\, Assistant Director of Admissions and Transfer Coordinator for Stockton University. He’ll go over the CCC-Stockton Transfer Pathways Program\, degree offerings\, transfer process to Stockton\, and scholarships during his fall advising days. No appointments are needed! \n  \nWhere: Taft 3rd Floor – University Center (Blackwood Campus) \nTime: 8:30 a.m. – 4p.m. \nWalk-ins Welcome! \n  \nCurrent CCC students interested in receiving additional or service accommodations for this event\, should reach out to The Accessibility Center at accessibilityservice@camdencc.edu or (856) 227-7200 ext. 4430.
URL:https://www.camdencc.edu/event/advising-day-stockton-university-3/
LOCATION:Taft Hall\, 3rd Floor
CATEGORIES:Blackwood Campus,General Event,Stockton University,Transfer Events
ORGANIZER;CN="Transfer Services":MAILTO:transferservices@camdencc.edu
END:VEVENT
BEGIN:VEVENT
DTSTART;TZID=America/New_York:20260224T080000
DTEND;TZID=America/New_York:20260419T233000
DTSTAMP:20260420T000158
CREATED:20260224T174240Z
LAST-MODIFIED:20260319T153354Z
UID:10003680-1771920000-1776641400@www.camdencc.edu
SUMMARY:Apply Now! TAAC Hailey King Memorial Scholarship 2026
DESCRIPTION:TAAC Hailey King Memorial Scholarship 2026 \nThe Transfer Admissions and Advising Committee (TAAC) is an organization of transfer coordinators\, advisors and transfer admissions counselors from several of the Philadelphia region’s institutions of higher education. We look to find ways to work together in an effort to better support student and institutional transfer needs and encourage transfer personnel to communicate with each other to help share experiences and successes. \nTAAC endeavors to support the transfer of Community College graduates that intend to continue their studies at four-year colleges and universities. TAAC offers the Hailey King Memorial Scholarship for students who exhibit exemplary scholastic records and civic achievements with the hope that their transfer experience may be made easier with the scholarship funds. The winner(s) of the TAAC Scholarship will be provided with a $1000 scholarship towards completion of a bachelor’s degree. \nCriteria: \n\nWill have graduated with an associate degree between May 2025 and December 2026.\nGraduates from these community colleges are eligible to apply: Bucks County Community College\, Camden County Community College\, Community College of Philadelphia\, Delaware County Community College\, Lehigh Carbon Community College\, Reading Area Community College.\nMinimum of 30 college credits must have been earned at the community college awarding the associate degree;\nWill matriculate at an accredited\, not-for-profit four-year institution in Fall 2026 or Spring 2027\nMinimum cumulative grade point average of 3.30 from all post-secondary institutions attended;\nApplication Deadline – April 19\, 2026\, including the required letter of recommendation and transcripts.\n\nApplication Materials: \n\nCompleted Hailey King Memorial Scholarship Application\, including essay and unofficial transcripts from all colleges attended and courses in progress (official transcript will be requested if selected).  Please email transcripts to taacpa1@gmail.com.  Must be submitted NO LATER THAN April 19\, 2026.\nOne letter of recommendation from a college administrator or faculty member (emailed to taacpa1@gmail.com)\, on institution letterhead with an authentic signature. This must be emailed directly by the letter writer! Deadline for receipt is NO LATER THAN April 19\, 2026 @ 11:59pm.\nPlease proofread your application before submitting. Answer all questions fully. Grammar and punctuation will be considered. If AI or plagiarism is detected\, your application will be subject to disqualification.
URL:https://www.camdencc.edu/event/apply-now-taac-hailey-king-memorial-scholarship-2026/
LOCATION:NJ
CATEGORIES:Transfer Events,Transfer Scholarship,Virtual Transfer
ORGANIZER;CN="Transfer Services":MAILTO:transferservices@camdencc.edu
END:VEVENT
BEGIN:VEVENT
DTSTART;TZID=America/New_York:20260224T080000
DTEND;TZID=America/New_York:20260515T233000
DTSTAMP:20260420T000158
CREATED:20260224T173338Z
LAST-MODIFIED:20260319T153124Z
UID:10003679-1771920000-1778887800@www.camdencc.edu
SUMMARY:Apply Now! Neumann University Full-Tuition Scholarship
DESCRIPTION:Neumann University (NU) Full-Tuition Scholarship\nNeumann University’s (NU) Full-Tuition Scholarship for Camden County College (CCC) is available to make your education goals even more affordable! The scholarship covers all tuition for the recipient’s two years at Neumann! NU enjoys a robust partnership with CCC to foster a stronger bachelors completion rate with their students. For students entering Fall 2026\, NU will award one student from CCC a Full-Tuition Scholarship! Students must complete the Full-Tuition Scholarship Application form by May 15 and obtain their associates degree before entering NU in the fall.* \n*Students must apply to Neumann University by completing a transfer application prior to applying for the scholarship! \nAPPLY TODAY! \nEligibility\n\nIntend to earn an associate’s degree from Camden County College prior to enrollment at Neumann University\nBe admitted to Neumann University before submitting this application\nIntend to enroll full-time at Neumann University for Fall 2026\nEngage in community service/extracurricular activities\nComplete FAFSA (www.fafsa.ed.gov)\, if eligible\, before submitting this application and include Neumann University (003988)\nA 3.0 Overall Grade Point Average (on a 4.0 scale) is preferred\, however those with a lower GPA are still encouraged to apply\n\nApplication Guidelines\n\nComplete this application by May 15\, 2026\nSubmit Essay as part of application\nSubmit Resume as part of application\n\nSelection Timeline\nFinal awardees will be selected by a committee at Neumann and contacted by the end of May \nIf selected\, this scholarship will cover the cost of full-time undergraduate tuition. Any other expenses\, such as fees\, housing\, or meal plan will be the responsibility of the recipient. If you have questions\, please contact Christina Irby\, Neumann Assistant Director of Undergraduate Admissions at irbyc@neumann.edu or (610) 361-5247.
URL:https://www.camdencc.edu/event/neumann-university-full-tuition-scholarship/
LOCATION:NJ
CATEGORIES:Neumann University,Transfer Scholarship,Virtual,Virtual Transfer,_HIDE FROM HOMEPAGE
ORGANIZER;CN="Transfer Services":MAILTO:transferservices@camdencc.edu
END:VEVENT
BEGIN:VEVENT
DTSTART;TZID=America/New_York:20260224T100000
DTEND;TZID=America/New_York:20260224T180000
DTSTAMP:20260420T000158
CREATED:20260112T163844Z
LAST-MODIFIED:20260211T213735Z
UID:10001795-1771927200-1771956000@www.camdencc.edu
SUMMARY:Instant Decision Day: Rutgers University - Camden & Blackwood
DESCRIPTION:INSTANT DECISION DAY* \nLooking to transfer to Rutgers University – Camden or to an off-campus Rutgers-Blackwood program\, then sign-up for Instant Decision Day. During this event\, students can meet with an admissions counselor who will review their completed application and transcript(s) and provide a same-day admissions decision. Please note\, this is for Fall 2026 admission only. \n*The $70 application fee is waived for students who participate in IDD. \nEligibility requirements:  \n\nA minimum of 45 credits towards the completion of an Associate’s Degree with the intent to complete the Associate’s Degree prior to enrollment at Rutgers.\nReady to start at Rutgers in Spring 2026.\nInterest in a Rutgers-Camden or Rutgers-Blackwood Program\n\nIf you are applying as a Nursing major\, please reach out to the email below because not all Nursing Programs are eligible for this event. \n\n\n\nThis event is APPOINTMENT ONLY!  Students can select an in-person or virtual meeting for the appointment. Email rutgers-ccc@docs.rutgers.edu to schedule an appointment.
URL:https://www.camdencc.edu/event/instant-decision-day-rutgers-university-camden-blackwood-4/
LOCATION:CIM 301\, NJ
CATEGORIES:Blackwood Campus,General Event,Instant Decision Day,Premier Partnership,Rutgers @ Camden County College,Rutgers at Camden County Blackwood,Rutgers Camden,Transfer Events,Virtual Instant Decision Day
ORGANIZER;CN="Transfer Services":MAILTO:transferservices@camdencc.edu
END:VEVENT
BEGIN:VEVENT
DTSTART;TZID=America/New_York:20260225T080000
DTEND;TZID=America/New_York:20260327T233000
DTSTAMP:20260420T000158
CREATED:20260225T182448Z
LAST-MODIFIED:20260319T153427Z
UID:10003693-1772006400-1774654200@www.camdencc.edu
SUMMARY:Apply Now! Wilmington University Presidential Scholarship
DESCRIPTION:Wilmington University’s Presidential Scholarship for Camden County College is available to make your education goals even more affordable. The scholarship covers all tuition and fees during the recipient’s two years at Wilmington University\, which reduces the tuition cost of a bachelor’s degree by as much as $26\,000.* \n*The scholarship does not cover the cost of books. \nAPPLY NOW! \nConditions of Scholarship \nThe Scholarship Recipient: \n\nMust be currently enrolled and complete an associate degree at Camden County College.\nMust have a cumulative GPA of 3.0 or higher in their Camden County College coursework.\nShall demonstrate financial need based on the judgment of the scholarship committee.\nMust demonstrate leadership abilities and have participated in community service events (e.g.\, school\, church\, clubs and organizations on campus).\nMust maintain full-time enrollment at Wilmington University (at least 12 credits) in both the fall and spring semesters to maintain the scholarship.\nMust meet and maintain the requirements for the program of study at Wilmington University.\n\nGet Started \nSubmit your scholarship application by Friday\, March 27\, 2026. Scholarship applications will be reviewed by Wilmington University and Camden County College representatives and the scholarship recipient will be selected and notified by April 13\, 2026. \n  \nOR you may email Douglas Scappa\, Wilmington University’s Director of New Jersey Sites\, at douglas.r.scappa@wilmu.edu by March 27\, 2026.
URL:https://www.camdencc.edu/event/apply-now-wilmington-university-presidential-scholarship/
LOCATION:NJ
CATEGORIES:Transfer Events,Transfer Scholarship,Wilmington University
ORGANIZER;CN="Transfer Services":MAILTO:transferservices@camdencc.edu
END:VEVENT
BEGIN:VEVENT
DTSTART;TZID=America/New_York:20260225T100000
DTEND;TZID=America/New_York:20260225T140000
DTSTAMP:20260420T000158
CREATED:20251106T190413Z
LAST-MODIFIED:20251119T141732Z
UID:10001742-1772013600-1772028000@www.camdencc.edu
SUMMARY:4-Year College Visits @ Camden City: Rider University& The College of New Jersey
DESCRIPTION:Start thinking about the transfer process to a four-year institution! Stop by and speak to the transfer representatives from Rider University and The College of New Jersey  to learn more about the admissions process\, scholarships\, GPA requirements\, student life\, and application deadlines! \nPlease note this table visit is located in the CTC Building\, 2nd Floor Lobby. \nCurrent CCC students interested in receiving additional or service accommodations for this event\, should reach out to The Accessibility Center at accessibilityservice@camdencc.edu or (856) 227-7200 ext. 4430.
URL:https://www.camdencc.edu/event/4-year-college-visits-camden-city-rider-university/
LOCATION:CTC Lobby\, NJ
CATEGORIES:Camden City Campus,College Table Visits,General Event,TCNJ,Transfer Events
ORGANIZER;CN="Transfer Services":MAILTO:transferservices@camdencc.edu
END:VEVENT
BEGIN:VEVENT
DTSTART;TZID=America/New_York:20260226T100000
DTEND;TZID=America/New_York:20260226T140000
DTSTAMP:20260420T000158
CREATED:20251106T170111Z
LAST-MODIFIED:20260123T160846Z
UID:10001734-1772100000-1772114400@www.camdencc.edu
SUMMARY:4-Year College Visit @ Blackwood: Rowan University\, Stevens Institute of Technology & Villanova University\, College of Professional Studies
DESCRIPTION:Start thinking about the transfer process to a four-year institution! Stop by and speak to the transfer representatives from Rowan University\, Stevens Institute of Technology\, and Villanova University\, College of Professional Studies to learn more about the admissions process\, scholarships\, GPA requirements\, student life\, and application deadlines! \nPlease note this table visit is located in the Connector Terrace on the Blackwood Campus in the Connector Building. \nCurrent CCC students interested in receiving additional or service accommodations for this event\, should reach out to The Accessibility Center at accessibilityservice@camdencc.edu or (856) 227-7200 ext. 4430.
URL:https://www.camdencc.edu/event/4-year-college-visit-blackwood-rowan-university/
LOCATION:Connector Terrace – 2nd Floor\, 200 College Dr\, Blackwood\, New Jersey\, 08012
CATEGORIES:Blackwood Campus,College Table Visits,General Event,Rowan University,Transfer Events
ORGANIZER;CN="Transfer Services":MAILTO:transferservices@camdencc.edu
END:VEVENT
BEGIN:VEVENT
DTSTART;TZID=America/New_York:20260226T173000
DTEND;TZID=America/New_York:20260226T193000
DTSTAMP:20260420T000158
CREATED:20250707T170408Z
LAST-MODIFIED:20250707T170632Z
UID:10001584-1772127000-1772134200@www.camdencc.edu
SUMMARY:Career & Technical Institute Career Fair and Open House
DESCRIPTION:Participating programs and industries include: \n\n\n\nAutomotive Technology\nCertified/Registered Medical Assistant\nCarpentry\nCosmetology\nCulinary Arts\nElectrical Residential\nHeating\, Ventilation & Air Conditioning\n\n\n\n\nHydro Technology (Plumbing)\nNail Technician\nNetwork Security Specialist\nPatient Care Technician\nPharmacy Technician\nSkin Care/Esthetician\nVeterinary Assistant\nWelding\n\n\n\n\n\n                \n                        EmailThis field is for validation purposes and should be left unchanged.First Name(Required)Last Name(Required)Email(Required)\n                            \n                        Phone(Required)Are you\n			\n					\n					A High School Student\n			\n			\n					\n					Looking for a Career\n			\n			\n					\n					Looking for a Career Change\n			Number Attending(Required)Please enter a number from 0 to 10.High School(Required)High School Graduation Year(Required)Programs of Interest(Required)\n								\n								Automotive Technology\n							\n								\n								Certified Medical Assistant\n							\n								\n								Carpentry\n							\n								\n								Cosmetology\n							\n								\n								Culinary Arts\n							\n								\n								Electrical Residential\n							\n								\n								Heating\, Ventilation & Air Conditioning\n							\n								\n								Hydro Technology (Plumbing)\n							\n								\n								Nail Technician\n							\n								\n								Network Security Specialist\n							\n								\n								Patient Care Technician\n							\n								\n								Pharmacy Technician\n							\n								\n								Skin Care/Esthetician\n							\n								\n								Veterinary Assistant\n							\n								\n								Welding\n							Select all that applyCAPTCHAThis field is hidden when viewing the formrefererThis field is hidden when viewing the formUTM SourceThis field is hidden when viewing the formUTM MediumThis field is hidden when viewing the formUTM CampaignThis field is hidden when viewing the formUTM Content
URL:https://www.camdencc.edu/event/career-technical-institute-career-fair-and-open-house/
LOCATION:Atrium of the Connector Building\, 200 College Drive\, Blackwood\, NJ\, 08012
CATEGORIES:Continuing Education,General Event,Open House,Workforce Development
ORGANIZER;CN="Stephanie Bain":MAILTO:sbain@camdencc.edu
END:VEVENT
END:VCALENDAR