BEGIN:VCALENDAR
VERSION:2.0
PRODID:-//Camden County College - ECPv6.15.18//NONSGML v1.0//EN
CALSCALE:GREGORIAN
METHOD:PUBLISH
X-WR-CALNAME:Camden County College
X-ORIGINAL-URL:https://www.camdencc.edu
X-WR-CALDESC:Events for Camden County College
REFRESH-INTERVAL;VALUE=DURATION:PT1H
X-Robots-Tag:noindex
X-PUBLISHED-TTL:PT1H
BEGIN:VTIMEZONE
TZID:America/New_York
BEGIN:DAYLIGHT
TZOFFSETFROM:-0500
TZOFFSETTO:-0400
TZNAME:EDT
DTSTART:20250309T070000
END:DAYLIGHT
BEGIN:STANDARD
TZOFFSETFROM:-0400
TZOFFSETTO:-0500
TZNAME:EST
DTSTART:20251102T060000
END:STANDARD
BEGIN:DAYLIGHT
TZOFFSETFROM:-0500
TZOFFSETTO:-0400
TZNAME:EDT
DTSTART:20260308T070000
END:DAYLIGHT
BEGIN:STANDARD
TZOFFSETFROM:-0400
TZOFFSETTO:-0500
TZNAME:EST
DTSTART:20261101T060000
END:STANDARD
BEGIN:DAYLIGHT
TZOFFSETFROM:-0500
TZOFFSETTO:-0400
TZNAME:EDT
DTSTART:20270314T070000
END:DAYLIGHT
BEGIN:STANDARD
TZOFFSETFROM:-0400
TZOFFSETTO:-0500
TZNAME:EST
DTSTART:20271107T060000
END:STANDARD
END:VTIMEZONE
BEGIN:VEVENT
DTSTART;TZID=America/New_York:20260122T100000
DTEND;TZID=America/New_York:20260122T130000
DTSTAMP:20260420T052533
CREATED:20260106T192746Z
LAST-MODIFIED:20260106T192746Z
UID:10001791-1769076000-1769086800@www.camdencc.edu
SUMMARY:Dr. Martin Luther King Jr. Day of Service
DESCRIPTION:Observed each year on the third Monday in January\, Martin Luther King\, Jr.\, Day is a federal holiday designated as a National Day of Service to encourage all Americans to volunteer to honor the life and legacy of Dr. King and improve their communities. \nIn 2026\, we gather under the strategic theme: Mission Possible II: Building Community\, Uniting a Nation the Nonviolent Way. This theme is more than a banner; it’s a blueprint for action. It guides our programming\, fuels our outreach\, and anchors our commitment to building the Beloved Community; a world where injustice ends\, violence is replaced by compassion\, and love becomes the prevailing force. \nVolunteer/Donate
URL:https://www.camdencc.edu/event/dr-martin-luther-king-jr-day-of-service/
LOCATION:Atrium of the Connector Building\, 200 College Drive\, Blackwood\, NJ\, 08012
CATEGORIES:Student Life & Activities
END:VEVENT
END:VCALENDAR