BEGIN:VCALENDAR
VERSION:2.0
PRODID:-//Camden County College - ECPv6.15.18//NONSGML v1.0//EN
CALSCALE:GREGORIAN
METHOD:PUBLISH
X-ORIGINAL-URL:https://www.camdencc.edu
X-WR-CALDESC:Events for Camden County College
REFRESH-INTERVAL;VALUE=DURATION:PT1H
X-Robots-Tag:noindex
X-PUBLISHED-TTL:PT1H
BEGIN:VTIMEZONE
TZID:America/New_York
BEGIN:DAYLIGHT
TZOFFSETFROM:-0500
TZOFFSETTO:-0400
TZNAME:EDT
DTSTART:20250309T070000
END:DAYLIGHT
BEGIN:STANDARD
TZOFFSETFROM:-0400
TZOFFSETTO:-0500
TZNAME:EST
DTSTART:20251102T060000
END:STANDARD
BEGIN:DAYLIGHT
TZOFFSETFROM:-0500
TZOFFSETTO:-0400
TZNAME:EDT
DTSTART:20260308T070000
END:DAYLIGHT
BEGIN:STANDARD
TZOFFSETFROM:-0400
TZOFFSETTO:-0500
TZNAME:EST
DTSTART:20261101T060000
END:STANDARD
BEGIN:DAYLIGHT
TZOFFSETFROM:-0500
TZOFFSETTO:-0400
TZNAME:EDT
DTSTART:20270314T070000
END:DAYLIGHT
BEGIN:STANDARD
TZOFFSETFROM:-0400
TZOFFSETTO:-0500
TZNAME:EST
DTSTART:20271107T060000
END:STANDARD
END:VTIMEZONE
BEGIN:VEVENT
DTSTART;TZID=America/New_York:20260210T150000
DTEND;TZID=America/New_York:20260210T160000
DTSTAMP:20260422T152750
CREATED:20260116T200310Z
LAST-MODIFIED:20260116T200425Z
UID:10001814-1770735600-1770739200@www.camdencc.edu
SUMMARY:Virtual Information Session: Rutgers University - Camden Premier Partnership
DESCRIPTION:Are you interested in transferring to a Rutgers-Camden on-campus or Rutgers-Blackwood off-campus program? Join Rutgers representatives to learn about available degree programs and the application process. Students will also learn more about the benefits of the Premier Partnership\, including the 3rd year partnership grant available to Rutgers @ CCC Blackwood students! \nREGISTER HERE!
URL:https://www.camdencc.edu/event/virtual-information-session-rutgers-university-camden-premier-partnership/
LOCATION:Virtual\, NJ
CATEGORIES:Infromation Session,Premier Partnership,Rutgers @ Camden County College,Rutgers at Camden County Blackwood,Rutgers Camden,Rutgers Camden,Transfer Events,Virtual,Virtual Information Session,Virtual Transfer
ORGANIZER;CN="Transfer Services":MAILTO:transferservices@camdencc.edu
END:VEVENT
BEGIN:VEVENT
DTSTART;TZID=America/New_York:20260211T150000
DTEND;TZID=America/New_York:20260211T160000
DTSTAMP:20260422T152750
CREATED:20260116T200017Z
LAST-MODIFIED:20260116T200017Z
UID:10001813-1770822000-1770825600@www.camdencc.edu
SUMMARY:Virtual Information Session: Rutgers @ CCC Labor Studies & Public Health Degree
DESCRIPTION:Are you considering a career in Health Professions or Employment Relations? Do you want to make a bigger difference? Rutgers University at CCC offers degrees in Public Health and Labor and Employment Relations. Build a career that builds a better world. Join us to learn more about the Rutgers University at CCC Public Health and Labor and Employment Relations degrees today. \n  \nREGISTER HERE!
URL:https://www.camdencc.edu/event/virtual-information-session-rutgers-ccc-labor-studies-public-health-degree/
LOCATION:Virtual\, NJ
CATEGORIES:General Event,Infromation Session,Rutgers @ Camden County College,Transfer Events,Virtual,Virtual Information Session,Virtual Transfer
ORGANIZER;CN="Transfer Services":MAILTO:transferservices@camdencc.edu
END:VEVENT
END:VCALENDAR