BEGIN:VCALENDAR
VERSION:2.0
PRODID:-//Camden County College - ECPv6.15.18//NONSGML v1.0//EN
CALSCALE:GREGORIAN
METHOD:PUBLISH
X-ORIGINAL-URL:https://www.camdencc.edu
X-WR-CALDESC:Events for Camden County College
REFRESH-INTERVAL;VALUE=DURATION:PT1H
X-Robots-Tag:noindex
X-PUBLISHED-TTL:PT1H
BEGIN:VTIMEZONE
TZID:America/New_York
BEGIN:DAYLIGHT
TZOFFSETFROM:-0500
TZOFFSETTO:-0400
TZNAME:EDT
DTSTART:20250309T070000
END:DAYLIGHT
BEGIN:STANDARD
TZOFFSETFROM:-0400
TZOFFSETTO:-0500
TZNAME:EST
DTSTART:20251102T060000
END:STANDARD
BEGIN:DAYLIGHT
TZOFFSETFROM:-0500
TZOFFSETTO:-0400
TZNAME:EDT
DTSTART:20260308T070000
END:DAYLIGHT
BEGIN:STANDARD
TZOFFSETFROM:-0400
TZOFFSETTO:-0500
TZNAME:EST
DTSTART:20261101T060000
END:STANDARD
BEGIN:DAYLIGHT
TZOFFSETFROM:-0500
TZOFFSETTO:-0400
TZNAME:EDT
DTSTART:20270314T070000
END:DAYLIGHT
BEGIN:STANDARD
TZOFFSETFROM:-0400
TZOFFSETTO:-0500
TZNAME:EST
DTSTART:20271107T060000
END:STANDARD
END:VTIMEZONE
BEGIN:VEVENT
DTSTART;TZID=America/New_York:20260505T100000
DTEND;TZID=America/New_York:20260505T140000
DTSTAMP:20260422T183555
CREATED:20251106T184227Z
LAST-MODIFIED:20260401T201833Z
UID:10001739-1777975200-1777989600@www.camdencc.edu
SUMMARY:4-Year College Visit @ Blackwood: Princeton University\, Rutgers-Camden\, RU Statewide and Rowan University
DESCRIPTION:Start thinking about the transfer process to a four-year institution! Stop by and speak to the transfer representatives from Princeton University\, Rutgers-Camden & RU Statewide and Rowan University to learn more about the admissions process\, scholarships\, GPA requirements\, student life\, and application deadlines! \nPlease note this table visit is located in the Connector Terrace on the Blackwood Campus in the Connector Building. \nCurrent CCC students interested in receiving additional or service accommodations for this event\, should reach out to The Accessibility Center at accessibilityservice@camdencc.edu or (856) 227-7200 ext. 4430.
URL:https://www.camdencc.edu/event/4-year-college-visit-blackwood-rutgers-camden-ru-statewide/
LOCATION:Connector Terrace – 2nd Floor\, 200 College Dr\, Blackwood\, New Jersey\, 08012
CATEGORIES:Blackwood Campus,College Table Visits,General Event,Rutgers Camden,Transfer Events
ORGANIZER;CN="Transfer Services":MAILTO:transferservices@camdencc.edu
END:VEVENT
BEGIN:VEVENT
DTSTART;TZID=America/New_York:20260506T140000
DTEND;TZID=America/New_York:20260506T180000
DTSTAMP:20260422T183555
CREATED:20260331T201441Z
LAST-MODIFIED:20260421T152153Z
UID:10003726-1778076000-1778090400@www.camdencc.edu
SUMMARY:Transfer Fair: Blackwood Campus
DESCRIPTION:Are you graduating this spring or over the summer and looking to transfer? Then stop by the Transfer Fair happening during the grad fair. Here you can meet with four-year representatives one last time to review your transfer plan and explore your options for Fall 2026! The four-year representatives are more than happy to speak with students about housing\, programs\, student life\, and scholarship opportunities. \nList of attendees include: \nChestnut Hill College \nDrexel University \nGrand Canyon University \nGwynedd Mercy University \nHoly Family University \nRowan University \nRutgers Statewide \nRutgers University – Camden \nStockton University \nTemple University \nWidener University \nWilmington University
URL:https://www.camdencc.edu/event/transfer-fair-blackwood-campus-3/
LOCATION:Barnes and Noble\, 200 College Drive\, Blackwood\, NJ\, 08012
CATEGORIES:Blackwood Campus,General Event,Rowan University,Rutgers @ Camden County College,Rutgers at Camden County Blackwood,Rutgers Camden,Stockton,Stockton University,Transfer Events,Transfer Open House,Wilmington University
ORGANIZER;CN="Transfer Services":MAILTO:transferservices@camdencc.edu
END:VEVENT
BEGIN:VEVENT
DTSTART;TZID=America/New_York:20260507T100000
DTEND;TZID=America/New_York:20260507T140000
DTSTAMP:20260422T183555
CREATED:20260331T201400Z
LAST-MODIFIED:20260414T192856Z
UID:10003725-1778148000-1778162400@www.camdencc.edu
SUMMARY:Transfer Fair: Blackwood Campus
DESCRIPTION:Are you graduating this spring or over the summer and looking to transfer? Then stop by the Transfer Fair happening during the grad fair. Here you can meet with four-year representatives one last time to review your transfer plan and explore your options for Fall 2026! The four-year representatives are more than happy to speak with students about housing\, programs\, student life\, and scholarship opportunities. \nList of attendees include: \nChestnut Hill College \nDrexel University \nGwynedd Mercy University \nHoly Family University \nImmaculata University \nLincoln University \nPeirce at Lackawanna College \nRowan University \nRutgers – Statewide \nRutgers University – Camden \nSaint Joseph’s University \nStockton University \nTemple University \nTemple University School of Pharmacy \nThomas Jefferson University \nWidener University \nWilmington University
URL:https://www.camdencc.edu/event/transfer-fair-blackwood-campus-2/
LOCATION:Barnes and Noble\, 200 College Drive\, Blackwood\, NJ\, 08012
CATEGORIES:Blackwood Campus,General Event,Rowan University,Rutgers at Camden County Blackwood,Rutgers Camden,Stockton University,Transfer Events,Transfer Fair,Wilmington University
ORGANIZER;CN="Transfer Services":MAILTO:transferservices@camdencc.edu
END:VEVENT
END:VCALENDAR