BEGIN:VCALENDAR
VERSION:2.0
PRODID:-//Camden County College - ECPv6.15.18//NONSGML v1.0//EN
CALSCALE:GREGORIAN
METHOD:PUBLISH
X-WR-CALNAME:Camden County College
X-ORIGINAL-URL:https://www.camdencc.edu
X-WR-CALDESC:Events for Camden County College
REFRESH-INTERVAL;VALUE=DURATION:PT1H
X-Robots-Tag:noindex
X-PUBLISHED-TTL:PT1H
BEGIN:VTIMEZONE
TZID:America/New_York
BEGIN:DAYLIGHT
TZOFFSETFROM:-0500
TZOFFSETTO:-0400
TZNAME:EDT
DTSTART:20250309T070000
END:DAYLIGHT
BEGIN:STANDARD
TZOFFSETFROM:-0400
TZOFFSETTO:-0500
TZNAME:EST
DTSTART:20251102T060000
END:STANDARD
BEGIN:DAYLIGHT
TZOFFSETFROM:-0500
TZOFFSETTO:-0400
TZNAME:EDT
DTSTART:20260308T070000
END:DAYLIGHT
BEGIN:STANDARD
TZOFFSETFROM:-0400
TZOFFSETTO:-0500
TZNAME:EST
DTSTART:20261101T060000
END:STANDARD
BEGIN:DAYLIGHT
TZOFFSETFROM:-0500
TZOFFSETTO:-0400
TZNAME:EDT
DTSTART:20270314T070000
END:DAYLIGHT
BEGIN:STANDARD
TZOFFSETFROM:-0400
TZOFFSETTO:-0500
TZNAME:EST
DTSTART:20271107T060000
END:STANDARD
END:VTIMEZONE
BEGIN:VEVENT
DTSTART;TZID=America/New_York:20260714T150000
DTEND;TZID=America/New_York:20260714T160000
DTSTAMP:20260422T170056
CREATED:20260225T165107Z
LAST-MODIFIED:20260225T190604Z
UID:10003689-1784041200-1784044800@www.camdencc.edu
SUMMARY:Virtual Information Session: Rutgers University - Camden Premier Partnership
DESCRIPTION:Are you interested in transferring to a Rutgers-Camden on-campus or Rutgers-Blackwood off-campus program? Join Rutgers representatives to learn about available degree programs and the application process. Students will also learn more about the benefits of the Premier Partnership\, including the 3rd year partnership grant available to Rutgers @ CCC Blackwood students! \nRegistration link will be available soon. For more information – please contact rutgers-ccc@docs.rutgers.edu \n 
URL:https://www.camdencc.edu/event/virtual-information-session-rutgers-university-camden-premier-partnership-6/
LOCATION:Virtual\, NJ
CATEGORIES:General Event,Rutgers @ Camden County College,Rutgers Camden,Transfer Events,Virtual,Virtual Transfer
ORGANIZER;CN="Transfer Services":MAILTO:transferservices@camdencc.edu
END:VEVENT
END:VCALENDAR