BEGIN:VCALENDAR
VERSION:2.0
PRODID:-//Camden County College - ECPv6.15.18//NONSGML v1.0//EN
CALSCALE:GREGORIAN
METHOD:PUBLISH
X-ORIGINAL-URL:https://www.camdencc.edu
X-WR-CALDESC:Events for Camden County College
REFRESH-INTERVAL;VALUE=DURATION:PT1H
X-Robots-Tag:noindex
X-PUBLISHED-TTL:PT1H
BEGIN:VTIMEZONE
TZID:America/New_York
BEGIN:DAYLIGHT
TZOFFSETFROM:-0500
TZOFFSETTO:-0400
TZNAME:EDT
DTSTART:20250309T070000
END:DAYLIGHT
BEGIN:STANDARD
TZOFFSETFROM:-0400
TZOFFSETTO:-0500
TZNAME:EST
DTSTART:20251102T060000
END:STANDARD
BEGIN:DAYLIGHT
TZOFFSETFROM:-0500
TZOFFSETTO:-0400
TZNAME:EDT
DTSTART:20260308T070000
END:DAYLIGHT
BEGIN:STANDARD
TZOFFSETFROM:-0400
TZOFFSETTO:-0500
TZNAME:EST
DTSTART:20261101T060000
END:STANDARD
BEGIN:DAYLIGHT
TZOFFSETFROM:-0500
TZOFFSETTO:-0400
TZNAME:EDT
DTSTART:20270314T070000
END:DAYLIGHT
BEGIN:STANDARD
TZOFFSETFROM:-0400
TZOFFSETTO:-0500
TZNAME:EST
DTSTART:20271107T060000
END:STANDARD
END:VTIMEZONE
BEGIN:VEVENT
DTSTART;TZID=America/New_York:20260303T100000
DTEND;TZID=America/New_York:20260303T140000
DTSTAMP:20260420T065251
CREATED:20251106T170637Z
LAST-MODIFIED:20260113T190818Z
UID:10001735-1772532000-1772546400@www.camdencc.edu
SUMMARY:4-Year College Visit @ Blackwood: Rider University\, Rutgers Camden\, Rutgers Statewide and Kean University
DESCRIPTION:Start thinking about the transfer process to a four-year institution! Stop by and speak to the transfer representatives from Rider University\, Rutgers Camden\, Rutgers Statewide and Kean University to learn more about the admissions process\, scholarships\, GPA requirements\, student life\, and application deadlines! \nPlease note this table visit is located in the Connector Terrace on the Blackwood Campus in the Connector Building. \nCurrent CCC students interested in receiving additional or service accommodations for this event\, should reach out to The Accessibility Center at accessibilityservice@camdencc.edu or (856) 227-7200 ext. 4430.
URL:https://www.camdencc.edu/event/4-year-college-visit-blackwood-rider-university-rutgers-camden-and-rutgers-statewide/
LOCATION:Connector Terrace – 2nd Floor\, 200 College Dr\, Blackwood\, New Jersey\, 08012
CATEGORIES:Blackwood Campus,College Table Visits,General Event,Rutgers Camden,Transfer Events
ORGANIZER;CN="Transfer Services":MAILTO:transferservices@camdencc.edu
END:VEVENT
BEGIN:VEVENT
DTSTART;TZID=America/New_York:20260304T100000
DTEND;TZID=America/New_York:20260304T140000
DTSTAMP:20260420T065251
CREATED:20251106T195507Z
LAST-MODIFIED:20260120T165730Z
UID:10001747-1772618400-1772632800@www.camdencc.edu
SUMMARY:4-Year College Visits @ Cherry Hill: Immaculata University & Stevens Institute of Technology
DESCRIPTION:Start thinking about the transfer process to a four-year institution! Stop by and speak to the transfer representatives from Immaculata University and Stevens Institute of Technology to learn more about the admissions process\, scholarships\, GPA requirements\, student life\, and application deadlines! \nPlease note this table visit is located at the William G. Rohrer Center at the Cherry Hill location. \nCurrent CCC students interested in receiving additional or service accommodations for this event\, should reach out to The Accessibility Center at accessibilityservice@camdencc.edu or (856) 227-7200 ext. 4430.
URL:https://www.camdencc.edu/event/4-year-college-visits-cherry-hill-immaculata-university-chestnut-hill-college/
LOCATION:William G. Rohrer Center (Cherry Hill)\, 1889 Rt. 70 East\, Cherry Hill\, NJ\, 08003\, United States
CATEGORIES:Cherry Hill Campus,College Table Visits,General Event,Transfer Events
ORGANIZER;CN="Transfer Services":MAILTO:transferservices@camdencc.edu
GEO:39.9036182;-74.9691453
X-APPLE-STRUCTURED-LOCATION;VALUE=URI;X-ADDRESS=William G. Rohrer Center (Cherry Hill) 1889 Rt. 70 East Cherry Hill NJ 08003 United States;X-APPLE-RADIUS=500;X-TITLE=1889 Rt. 70 East:geo:-74.9691453,39.9036182
END:VEVENT
BEGIN:VEVENT
DTSTART;TZID=America/New_York:20260305T100000
DTEND;TZID=America/New_York:20260305T140000
DTSTAMP:20260420T065251
CREATED:20251106T190603Z
LAST-MODIFIED:20251106T190603Z
UID:10001743-1772704800-1772719200@www.camdencc.edu
SUMMARY:4-Year College Visits @ Camden City: Stockton University & Wilmington University
DESCRIPTION:Start thinking about the transfer process to a four-year institution! Stop by and speak to the transfer representatives from Stockton University & Wilmington University to learn more about the admissions process\, scholarships\, GPA requirements\, student life\, and application deadlines! \nPlease note this table visit is located in the CTC Building\, 2nd Floor Lobby. \nCurrent CCC students interested in receiving additional or service accommodations for this event\, should reach out to The Accessibility Center at accessibilityservice@camdencc.edu or (856) 227-7200 ext. 4430.
URL:https://www.camdencc.edu/event/4-year-college-visits-camden-city-stockton-university-wilmington-university/
LOCATION:CTC Lobby\, NJ
CATEGORIES:Camden City Campus,College Table Visits,General Event,Transfer Events
ORGANIZER;CN="Transfer Services":MAILTO:transferservices@camdencc.edu
END:VEVENT
END:VCALENDAR