BEGIN:VCALENDAR
VERSION:2.0
PRODID:-//Camden County College - ECPv6.15.18//NONSGML v1.0//EN
CALSCALE:GREGORIAN
METHOD:PUBLISH
X-ORIGINAL-URL:https://www.camdencc.edu
X-WR-CALDESC:Events for Camden County College
REFRESH-INTERVAL;VALUE=DURATION:PT1H
X-Robots-Tag:noindex
X-PUBLISHED-TTL:PT1H
BEGIN:VTIMEZONE
TZID:America/New_York
BEGIN:DAYLIGHT
TZOFFSETFROM:-0500
TZOFFSETTO:-0400
TZNAME:EDT
DTSTART:20250309T070000
END:DAYLIGHT
BEGIN:STANDARD
TZOFFSETFROM:-0400
TZOFFSETTO:-0500
TZNAME:EST
DTSTART:20251102T060000
END:STANDARD
BEGIN:DAYLIGHT
TZOFFSETFROM:-0500
TZOFFSETTO:-0400
TZNAME:EDT
DTSTART:20260308T070000
END:DAYLIGHT
BEGIN:STANDARD
TZOFFSETFROM:-0400
TZOFFSETTO:-0500
TZNAME:EST
DTSTART:20261101T060000
END:STANDARD
BEGIN:DAYLIGHT
TZOFFSETFROM:-0500
TZOFFSETTO:-0400
TZNAME:EDT
DTSTART:20270314T070000
END:DAYLIGHT
BEGIN:STANDARD
TZOFFSETFROM:-0400
TZOFFSETTO:-0500
TZNAME:EST
DTSTART:20271107T060000
END:STANDARD
END:VTIMEZONE
BEGIN:VEVENT
DTSTART;TZID=America/New_York:20260311T093000
DTEND;TZID=America/New_York:20260311T133000
DTSTAMP:20260419T214634
CREATED:20260123T185632Z
LAST-MODIFIED:20260123T185653Z
UID:10003666-1773221400-1773235800@www.camdencc.edu
SUMMARY:Advising Day: Rowan University
DESCRIPTION:Meet with Rowan’s Coordinator of University Transfer Services\, Mayra Arroyo to learn more about the transfer onboarding process\, review of TREQ\, scholarships\, and student life at Rowan. \nLocated on the 3rd floor of Taft\, Mayra is happy to meet with students on a walk-in basis from 9:30 a.m. – 1:30 p.m. \n  \nCurrent CCC students interested in receiving additional or service accommodations for this event\, should reach out to The Accessibility Center at accessibilityservice@camdencc.edu or (856) 227-7200 ext. 4430.
URL:https://www.camdencc.edu/event/advising-day-rowan-university-5/
LOCATION:Taft Hall\, 3rd Floor
CATEGORIES:Advisement Day,Blackwood Campus,General Event,Rowan Advisement Day,Rowan University,Transfer Events
ORGANIZER;CN="Transfer Services":MAILTO:transferservices@camdencc.edu
END:VEVENT
END:VCALENDAR