BEGIN:VCALENDAR
VERSION:2.0
PRODID:-//Camden County College - ECPv6.15.18//NONSGML v1.0//EN
CALSCALE:GREGORIAN
METHOD:PUBLISH
X-WR-CALNAME:Camden County College
X-ORIGINAL-URL:https://www.camdencc.edu
X-WR-CALDESC:Events for Camden County College
REFRESH-INTERVAL;VALUE=DURATION:PT1H
X-Robots-Tag:noindex
X-PUBLISHED-TTL:PT1H
BEGIN:VTIMEZONE
TZID:America/New_York
BEGIN:DAYLIGHT
TZOFFSETFROM:-0500
TZOFFSETTO:-0400
TZNAME:EDT
DTSTART:20250309T070000
END:DAYLIGHT
BEGIN:STANDARD
TZOFFSETFROM:-0400
TZOFFSETTO:-0500
TZNAME:EST
DTSTART:20251102T060000
END:STANDARD
BEGIN:DAYLIGHT
TZOFFSETFROM:-0500
TZOFFSETTO:-0400
TZNAME:EDT
DTSTART:20260308T070000
END:DAYLIGHT
BEGIN:STANDARD
TZOFFSETFROM:-0400
TZOFFSETTO:-0500
TZNAME:EST
DTSTART:20261101T060000
END:STANDARD
BEGIN:DAYLIGHT
TZOFFSETFROM:-0500
TZOFFSETTO:-0400
TZNAME:EDT
DTSTART:20270314T070000
END:DAYLIGHT
BEGIN:STANDARD
TZOFFSETFROM:-0400
TZOFFSETTO:-0500
TZNAME:EST
DTSTART:20271107T060000
END:STANDARD
END:VTIMEZONE
BEGIN:VEVENT
DTSTART;TZID=America/New_York:20260303T110000
DTEND;TZID=America/New_York:20260303T123000
DTSTAMP:20260419T112859
CREATED:20260217T141913Z
LAST-MODIFIED:20260226T181406Z
UID:10003673-1772535600-1772541000@www.camdencc.edu
SUMMARY:Learning Styles and Study Tips
DESCRIPTION:The following events are provided by the Student Success and Retention Center\n\n\n                \n                        \n                            Student Success and Retention Event RSVP\n                             \n                        \n                        CommentsThis field is for validation purposes and should be left unchanged.First Name(Required)Last Name(Required)Which event will you be attending?(Required)\n			\n					\n					Career Planning and Development- 4/7/26\n			\n			\n					\n					Career Planning and Development- 4/8/26 at 5:30pm\n			CCC Email(Required)\n                            \n                        PhoneThis field is hidden when viewing the formWill you be attending(Required)\n			\n					\n					At the Camden City Campus\n			\n			\n					\n					Joining through Zoom\n			Please list any dietary restrictionsThis field is hidden when viewing the formUTM sourceThis field is hidden when viewing the formUTM mediumThis field is hidden when viewing the formUTM campaignCAPTCHA
URL:https://www.camdencc.edu/event/learning-styles-and-study-tips/
LOCATION:Taft Hall\, Room 105\, 200 College Drive\, Blackwood\, NJ\, 08012
CATEGORIES:Student Life & Activities,Student Success and Retention Center
ORGANIZER;CN="Destiny Hill":MAILTO:deshill@camdencc.edu
END:VEVENT
BEGIN:VEVENT
DTSTART;TZID=America/New_York:20260312T100000
DTEND;TZID=America/New_York:20260312T110000
DTSTAMP:20260419T112859
CREATED:20260227T140206Z
LAST-MODIFIED:20260227T140416Z
UID:10003697-1773309600-1773313200@www.camdencc.edu
SUMMARY:Donuts with the Dean
DESCRIPTION:URLThis field is for validation purposes and should be left unchanged.First Name(Required)Last Name(Required)Which event will you be attending?(Required)\n			\n					\n					Career Planning and Development- 4/7/26\n			\n			\n					\n					Career Planning and Development- 4/8/26 at 5:30pm\n			CCC Email(Required)\n                            \n                        PhoneThis field is hidden when viewing the formWill you be attending(Required)\n			\n					\n					At the Camden City Campus\n			\n			\n					\n					Joining through Zoom\n			Please list any dietary restrictionsThis field is hidden when viewing the formUTM sourceThis field is hidden when viewing the formUTM mediumThis field is hidden when viewing the formUTM campaignCAPTCHA
URL:https://www.camdencc.edu/event/donuts-with-the-dean/
LOCATION:Taft Hall\, Room 105\, 200 College Drive\, Blackwood\, NJ\, 08012
CATEGORIES:Student Life & Activities,Student Success and Retention Center
ORGANIZER;CN="Division of Student Success and Retention":MAILTO:astewart@camdencc.edu
END:VEVENT
BEGIN:VEVENT
DTSTART;TZID=America/New_York:20260324T110000
DTEND;TZID=America/New_York:20260324T130000
DTSTAMP:20260419T112859
CREATED:20260319T175841Z
LAST-MODIFIED:20260319T180050Z
UID:10003709-1774350000-1774357200@www.camdencc.edu
SUMMARY:Financial Literacy workshop - Building Credit
DESCRIPTION:Financial Literacy workshop series – CCC in collaboration with Fulton Bank\n\n                \n                        FacebookThis field is for validation purposes and should be left unchanged.First Name(Required)Last Name(Required)Student Email(Required)\n                            \n                        Select a Workshop(Required)\n			\n					\n					Building CreditTuesday\, March 24\, 2026\n			\n			\n					\n					Downpayment Assistance ProgramsTuesday\, April 21\, 2026\n			Building Credit(Required)\n			\n					\n					 In Person  - Blackwood Campus\, Student Success and Retention Center\, Taft Hall Room 105 - 11:00 a.m.\n			\n			\n					\n					Virtual Option  -  Zoom Link -  5:30 p.m.  A Zoom link will be sent prior to the workshop date.\n			Downpayment Assistance Programs(Required)\n			\n					\n					 In Person  - Blackwood Campus\, Student Success and Retention Center\, Taft Hall Room 105 - 11:00 a.m.\n			\n			\n					\n					Virtual Option  -  Zoom Link -  5:30 p.m.  A Zoom link will be sent prior to the workshop date.\n			Please list any food allergies or restrictions(Required)
URL:https://www.camdencc.edu/event/financial-literacy-workshop-building-credit/
LOCATION:Taft Hall Room 105\, 200 College Drive\, Blackwood\, 08012\, United States
CATEGORIES:General Event,Student Life & Activities,Student Success and Retention Center
ORGANIZER;CN="Division of Student Success and Retention":MAILTO:astewart@camdencc.edu
END:VEVENT
END:VCALENDAR