BEGIN:VCALENDAR
VERSION:2.0
PRODID:-//Camden County College - ECPv6.15.18//NONSGML v1.0//EN
CALSCALE:GREGORIAN
METHOD:PUBLISH
X-WR-CALNAME:Camden County College
X-ORIGINAL-URL:https://www.camdencc.edu
X-WR-CALDESC:Events for Camden County College
REFRESH-INTERVAL;VALUE=DURATION:PT1H
X-Robots-Tag:noindex
X-PUBLISHED-TTL:PT1H
BEGIN:VTIMEZONE
TZID:America/New_York
BEGIN:DAYLIGHT
TZOFFSETFROM:-0500
TZOFFSETTO:-0400
TZNAME:EDT
DTSTART:20250309T070000
END:DAYLIGHT
BEGIN:STANDARD
TZOFFSETFROM:-0400
TZOFFSETTO:-0500
TZNAME:EST
DTSTART:20251102T060000
END:STANDARD
BEGIN:DAYLIGHT
TZOFFSETFROM:-0500
TZOFFSETTO:-0400
TZNAME:EDT
DTSTART:20260308T070000
END:DAYLIGHT
BEGIN:STANDARD
TZOFFSETFROM:-0400
TZOFFSETTO:-0500
TZNAME:EST
DTSTART:20261101T060000
END:STANDARD
BEGIN:DAYLIGHT
TZOFFSETFROM:-0500
TZOFFSETTO:-0400
TZNAME:EDT
DTSTART:20270314T070000
END:DAYLIGHT
BEGIN:STANDARD
TZOFFSETFROM:-0400
TZOFFSETTO:-0500
TZNAME:EST
DTSTART:20271107T060000
END:STANDARD
END:VTIMEZONE
BEGIN:VEVENT
DTSTART;TZID=America/New_York:20260220T150000
DTEND;TZID=America/New_York:20260220T170000
DTSTAMP:20260419T194744
CREATED:20260220T210812Z
LAST-MODIFIED:20260220T210812Z
UID:10003678-1771599600-1771606800@www.camdencc.edu
SUMMARY:Application Workshop: Rutgers University
DESCRIPTION:Thinking of applying to Rutgers University but not sure where to start? We’re hosting a Rutgers Application Workshop to help you feel confident every step of the way! We’ll walk you through the application\, share insider tips\, help you avoid common mistakes\, and answer your questions! Whether you’re just getting started or putting on the final touches\, this workshop is for you! Spots are limited\, so don’t wait! \nSign up today! \nThis event is held in the new Student Success and Retention Center (SSRC) in Taft Hall (105). \n**Please note students must bring their own lap top to this event!**
URL:https://www.camdencc.edu/event/application-workshop-rutgers-university-2/
LOCATION:Taft Hall\, Room 105\, 200 College Drive\, Blackwood\, NJ\, 08012
CATEGORIES:Application Workshop,Blackwood Campus,General Event,Premier Partnership,Rutgers @ Camden County College,Rutgers at Camden County Blackwood,Rutgers Camden,Student Success and Retention Center,Transfer Application Workshop,Transfer Events
END:VEVENT
BEGIN:VEVENT
DTSTART;TZID=America/New_York:20260218T100000
DTEND;TZID=America/New_York:20260218T140000
DTSTAMP:20260419T194744
CREATED:20251106T164716Z
LAST-MODIFIED:20260203T150431Z
UID:10001733-1771408800-1771423200@www.camdencc.edu
SUMMARY:4-Year College Visit @ Blackwood: Immaculata University\, Holy Family & Rowan University
DESCRIPTION:Start thinking about the transfer process to a four-year institution! Stop by and speak to the transfer representatives from Immaculata University\, Holy Family and Rowan University to learn more about the admissions process\, scholarships\, GPA requirements\, student life\, and application deadlines! \nPlease note this table visit is located in the Connector Terrace on the Blackwood Campus in the Connector Building. \nCurrent CCC students interested in receiving additional or service accommodations for this event\, should reach out to The Accessibility Center at accessibilityservice@camdencc.edu or (856) 227-7200 ext. 4430.
URL:https://www.camdencc.edu/event/4-year-college-visit-blackwood-immaculata-university-holy-family-university-and-rider-university/
LOCATION:Connector Terrace – 2nd Floor\, 200 College Dr\, Blackwood\, New Jersey\, 08012
CATEGORIES:Blackwood Campus,College Table Visits,Transfer Events
ORGANIZER;CN="Transfer Services":MAILTO:transferservices@camdencc.edu
END:VEVENT
BEGIN:VEVENT
DTSTART;TZID=America/New_York:20260216T140000
DTEND;TZID=America/New_York:20260216T160000
DTSTAMP:20260419T194744
CREATED:20260203T141316Z
LAST-MODIFIED:20260220T212031Z
UID:10003669-1771250400-1771257600@www.camdencc.edu
SUMMARY:Application Workshop: Rutgers University
DESCRIPTION:Thinking of applying to Rutgers University but not sure where to start? We’re hosting a Rutgers Application Workshop to help you feel confident every step of the way! We’ll walk you through the application\, share insider tips\, help you avoid common mistakes\, and answer your questions! Whether you’re just getting started or putting on the final touches\, this workshop is for you! Spots are limited\, so don’t wait! \nSign up today! \nThis event is held in the new Student Success and Retention Center in Taft Hall (105). \n**Please note students must bring their own lap top to this event!**
URL:https://www.camdencc.edu/event/application-workshop-rutgers-university/
LOCATION:Taft Hall\, Room 105\, 200 College Drive\, Blackwood\, NJ\, 08012
CATEGORIES:Application Workshop,Blackwood Campus,General Event,Premier Partnership,Rutgers @ Camden County College,Rutgers at Camden County Blackwood,Rutgers Camden,Transfer Application Workshop,Transfer Events
ORGANIZER;CN="Transfer Services":MAILTO:transferservices@camdencc.edu
END:VEVENT
BEGIN:VEVENT
DTSTART;TZID=America/New_York:20260216T100000
DTEND;TZID=America/New_York:20260216T130000
DTSTAMP:20260419T194744
CREATED:20260209T161733Z
LAST-MODIFIED:20260209T161833Z
UID:10003672-1771236000-1771246800@www.camdencc.edu
SUMMARY:Advising Day: Wilmington University
DESCRIPTION:Meet with Wilmington University’s Jamar McCray. He is available for walk-ins to discuss the transfer process and Presidential Scholarship to Wilmington University. Whether you’re planning to transfer for Fall 2026 or in future semesters\, now is a great time to make a connection with Wilmington University. \nLocated on the 3rd floor of Taft\, Jamar is happy to meet with students on a walk-in basis from 10 a.m. – 1 p.m. \n  \nCurrent CCC students interested in receiving additional or service accommodations for this event\, should reach out to The Accessibility Center at accessibilityservice@camdencc.edu or (856) 227-7200 ext. 4430.
URL:https://www.camdencc.edu/event/advising-day-wilmington-university/
LOCATION:Taft Hall\, 3rd Floor
CATEGORIES:Advisement Day,Blackwood Campus,General Event,Transfer Events,Wilmington University
ORGANIZER;CN="Transfer Services":MAILTO:transferservices@camdencc.edu
END:VEVENT
BEGIN:VEVENT
DTSTART;TZID=America/New_York:20260212T100000
DTEND;TZID=America/New_York:20260212T140000
DTSTAMP:20260419T194744
CREATED:20251106T161400Z
LAST-MODIFIED:20260106T154924Z
UID:10001732-1770890400-1770904800@www.camdencc.edu
SUMMARY:4-Year College Visit @ Blackwood: Stockton University and Grand Canyon University
DESCRIPTION:Start thinking about the transfer process to a four-year institution! Stop by and speak to the transfer representatives from Stockton University and Grand Canyon University to learn more about the admissions process\, scholarships\, GPA requirements\, student life\, and application deadlines! \nPlease note this table visit is located in the Connector Terrace on the Blackwood Campus in the Connector Building. \nCurrent CCC students interested in receiving additional or service accommodations for this event\, should reach out to The Accessibility Center at accessibilityservice@camdencc.edu or (856) 227-7200 ext. 4430.
URL:https://www.camdencc.edu/event/4-year-college-visit-blackwood-wilmington-university/
LOCATION:Connector Terrace – 2nd Floor\, 200 College Dr\, Blackwood\, New Jersey\, 08012
CATEGORIES:Blackwood Campus,College Table Visits,General Event,Stockton,Transfer Events
ORGANIZER;CN="Transfer Services":MAILTO:transferservices@camdencc.edu
END:VEVENT
BEGIN:VEVENT
DTSTART;TZID=America/New_York:20260211T093000
DTEND;TZID=America/New_York:20260211T133000
DTSTAMP:20260419T194744
CREATED:20260123T185504Z
LAST-MODIFIED:20260123T185522Z
UID:10003665-1770802200-1770816600@www.camdencc.edu
SUMMARY:Advising Day: Rowan University
DESCRIPTION:Meet with Rowan’s Coordinator of University Transfer Services\, Mayra Arroyo to learn more about the transfer onboarding process\, review of TREQ\, scholarships\, and student life at Rowan. \nLocated on the 3rd floor of Taft\, Mayra is happy to meet with students on a walk-in basis from 9:30 a.m. – 1:30 p.m. \n  \nCurrent CCC students interested in receiving additional or service accommodations for this event\, should reach out to The Accessibility Center at accessibilityservice@camdencc.edu or (856) 227-7200 ext. 4430.
URL:https://www.camdencc.edu/event/advising-day-rowan-university/
LOCATION:Taft Hall\, 3rd Floor
CATEGORIES:Blackwood Campus,General Event,Rowan Advisement Day,Rowan University,Transfer Events
ORGANIZER;CN="Transfer Services":MAILTO:transferservices@camdencc.edu
END:VEVENT
BEGIN:VEVENT
DTSTART;TZID=America/New_York:20260205T103000
DTEND;TZID=America/New_York:20260205T133000
DTSTAMP:20260419T194744
CREATED:20251113T150345Z
LAST-MODIFIED:20260203T170741Z
UID:10001758-1770287400-1770298200@www.camdencc.edu
SUMMARY:Transfer Fair: Blackwood Campus
DESCRIPTION:Are you getting ready to transfer or beginning your transfer research? Then\, join Transfer Services for a transfer fair! Over 40 representatives from 4-year institutions will be available to meet with students to discuss the transfer process\, scholarships\, majors\, and student life! \nList of attendees include: \nAmerican College of Education \nCairn University\n \nCaldwell University \nChestnut Hill College \nDelaware State University \nDelaware Valley University \nDrexel University \nEast Stroudsburg University \nGeorgian Court University \nGrand Canyon University \nGwynedd Mercy University \nHoly Family University \nImmaculata University \nKean University \nLa Salle University \nLincoln University \nLong Island University \nManhattan University \nMontclair State University \nNeumann University \nNew Jersey City University (NJCU) \nNew Jersey Institute of Technology (NJIT) \nPeirce at Lackawanna College \nPennsylvania College of Medicine \nPenn State University \nRamapo College of New Jersey \nRider University \nRowan University \nRutgers University-New Brunswick Undergraduate Admissions \nRutgers New Brunswick School of Nursing \nRutgers School of Social Work \nSaint Joseph’s University \nSaint Peter’s University \nStockton University \nTemple University \nThe College of New Jersey (TCNJ) \nThomas Edison State University \nThomas Jefferson University \nUniversity of Pennsylvania College of Liberal and Professional Studies \nUrsinus College \nVillanova University\, College of Professional Studies \nWidener University \nWilliam Paterson University \nWilmington University \n  \nCurrent CCC students interested in receiving additional or service accommodations for this event\, should reach out to The Accessibility Center at accessibilityservice@camdencc.edu or (856) 227-7200 ext. 4430.
URL:https://www.camdencc.edu/event/transfer-fair-blackwood-campus/
LOCATION:Atrium of the Connector Building\, 200 College Drive\, Blackwood\, NJ\, 08012
CATEGORIES:Blackwood Campus,Drexel University,General Event,Neumann University,Premier Partnership,Rowan University,Rutgers Camden,Rutgers New Brunswick School of Nursing @ Blackwood,Stockton,Stockton University,TCNJ,Temple University,Transfer Events,Transfer Fair
ORGANIZER;CN="Transfer Services":MAILTO:transferservices@camdencc.edu
END:VEVENT
BEGIN:VEVENT
DTSTART;TZID=America/New_York:20260127T100000
DTEND;TZID=America/New_York:20260127T140000
DTSTAMP:20260419T194744
CREATED:20251106T151512Z
LAST-MODIFIED:20260126T211923Z
UID:10001731-1769508000-1769522400@www.camdencc.edu
SUMMARY:CANCELED: 4-Year College Visit @ Blackwood: Rutgers New Brunswick School of Nursing\, Wilmington University and Saint Joseph's University
DESCRIPTION:This event is canceled due to inclement weather and Camden County College being closed on Tuesday\, January 27th. Students are encouraged to attend the upcoming transfer fair at the Blackwood Campus on Thursday\, February 5th to meet with these four-year representatives.
URL:https://www.camdencc.edu/event/4-year-college-visit-blackwood-rutgers-new-brunswick-school-of-nursing/
LOCATION:Connector Terrace – 2nd Floor\, 200 College Dr\, Blackwood\, New Jersey\, 08012
CATEGORIES:Blackwood Campus,College Table Visits,General Event,Rutgers New Brunswick School of Nursing @ Blackwood,Rutgers New Brunswick School of Nursing @ Blackwood,Transfer Events,Wilmington University
ORGANIZER;CN="Transfer Services":MAILTO:transferservices@camdencc.edu
END:VEVENT
BEGIN:VEVENT
DTSTART;TZID=America/New_York:20260127T083000
DTEND;TZID=America/New_York:20260127T160000
DTSTAMP:20260419T194744
CREATED:20260115T163900Z
LAST-MODIFIED:20260126T193803Z
UID:10001804-1769502600-1769529600@www.camdencc.edu
SUMMARY:CANCELED:  Advising Day: Stockton University
DESCRIPTION:Unfortunately\, due to the weather\, Stockton University is closed on 1/27/2026 and our representative\, James Rodia will not be on campus. If you’re interested in speaking to James Rodia\, please contact him at james.rodia@stockton.edu or 609-652-4451. \nHe’ll also be at the Blackwood Campus\, on Thursday\, February 5 for the Transfer Fair in the Connector Atrium from 10:30 a.m. – 1:30 p.m.
URL:https://www.camdencc.edu/event/advising-day-stockton-university/
LOCATION:Taft Hall\, 3rd Floor
CATEGORIES:Blackwood Campus,General Event,Stockton University,Transfer Events
ORGANIZER;CN="Transfer Services":MAILTO:transferservices@camdencc.edu
END:VEVENT
END:VCALENDAR