BEGIN:VCALENDAR
VERSION:2.0
PRODID:-//Camden County College - ECPv6.15.18//NONSGML v1.0//EN
CALSCALE:GREGORIAN
METHOD:PUBLISH
X-ORIGINAL-URL:https://www.camdencc.edu
X-WR-CALDESC:Events for Camden County College
REFRESH-INTERVAL;VALUE=DURATION:PT1H
X-Robots-Tag:noindex
X-PUBLISHED-TTL:PT1H
BEGIN:VTIMEZONE
TZID:America/New_York
BEGIN:DAYLIGHT
TZOFFSETFROM:-0500
TZOFFSETTO:-0400
TZNAME:EDT
DTSTART:20250309T070000
END:DAYLIGHT
BEGIN:STANDARD
TZOFFSETFROM:-0400
TZOFFSETTO:-0500
TZNAME:EST
DTSTART:20251102T060000
END:STANDARD
BEGIN:DAYLIGHT
TZOFFSETFROM:-0500
TZOFFSETTO:-0400
TZNAME:EDT
DTSTART:20260308T070000
END:DAYLIGHT
BEGIN:STANDARD
TZOFFSETFROM:-0400
TZOFFSETTO:-0500
TZNAME:EST
DTSTART:20261101T060000
END:STANDARD
BEGIN:DAYLIGHT
TZOFFSETFROM:-0500
TZOFFSETTO:-0400
TZNAME:EDT
DTSTART:20270314T070000
END:DAYLIGHT
BEGIN:STANDARD
TZOFFSETFROM:-0400
TZOFFSETTO:-0500
TZNAME:EST
DTSTART:20271107T060000
END:STANDARD
END:VTIMEZONE
BEGIN:VEVENT
DTSTART;TZID=America/New_York:20260303T090000
DTEND;TZID=America/New_York:20260303T113000
DTSTAMP:20260419T124322
CREATED:20260303T135705Z
LAST-MODIFIED:20260303T164430Z
UID:10003699-1772528400-1772537400@www.camdencc.edu
SUMMARY:Pop-Up Transfer Advising Day: Wilmington University
DESCRIPTION:Meet with Wilmington University’s Jamar McCray. He is available for walk-ins to discuss the transfer process and Presidential Scholarship to Wilmington University. Whether you’re planning to transfer for Fall 2026 or in future semesters\, now is a great time to make a connection with Wilmington University. \nLocated on the 3rd floor of Taft\, Jamar is happy to meet with students on a walk-in basis from 9 a.m. – 11:30 a.m. \n  \nCurrent CCC students interested in receiving additional or service accommodations for this event\, should reach out to The Accessibility Center at accessibilityservice@camdencc.edu or (856) 227-7200 ext. 4430.
URL:https://www.camdencc.edu/event/pop-up-transfer-advising-day-wilmington-university/
LOCATION:Taft Hall\, 3rd Floor
CATEGORIES:Blackwood Campus,General Event,Transfer Events,Wilmington University
ORGANIZER;CN="Transfer Services":MAILTO:transferservices@camdencc.edu
END:VEVENT
BEGIN:VEVENT
DTSTART;TZID=America/New_York:20260303T100000
DTEND;TZID=America/New_York:20260303T140000
DTSTAMP:20260419T124322
CREATED:20251106T170637Z
LAST-MODIFIED:20260113T190818Z
UID:10001735-1772532000-1772546400@www.camdencc.edu
SUMMARY:4-Year College Visit @ Blackwood: Rider University\, Rutgers Camden\, Rutgers Statewide and Kean University
DESCRIPTION:Start thinking about the transfer process to a four-year institution! Stop by and speak to the transfer representatives from Rider University\, Rutgers Camden\, Rutgers Statewide and Kean University to learn more about the admissions process\, scholarships\, GPA requirements\, student life\, and application deadlines! \nPlease note this table visit is located in the Connector Terrace on the Blackwood Campus in the Connector Building. \nCurrent CCC students interested in receiving additional or service accommodations for this event\, should reach out to The Accessibility Center at accessibilityservice@camdencc.edu or (856) 227-7200 ext. 4430.
URL:https://www.camdencc.edu/event/4-year-college-visit-blackwood-rider-university-rutgers-camden-and-rutgers-statewide/
LOCATION:Connector Terrace – 2nd Floor\, 200 College Dr\, Blackwood\, New Jersey\, 08012
CATEGORIES:Blackwood Campus,College Table Visits,General Event,Rutgers Camden,Transfer Events
ORGANIZER;CN="Transfer Services":MAILTO:transferservices@camdencc.edu
END:VEVENT
BEGIN:VEVENT
DTSTART;TZID=America/New_York:20260309T083000
DTEND;TZID=America/New_York:20260309T160000
DTSTAMP:20260419T124322
CREATED:20260115T164118Z
LAST-MODIFIED:20260115T164118Z
UID:10001806-1773045000-1773072000@www.camdencc.edu
SUMMARY:Advising Day: Stockton University
DESCRIPTION:Are you interested in transferring to Stockton University? Meet with James Rodia\, Assistant Director of Admissions and Transfer Coordinator for Stockton University. He’ll go over the CCC-Stockton Transfer Pathways Program\, degree offerings\, transfer process to Stockton\, and scholarships during his fall advising days. No appointments are needed! \n  \nWhere: Taft 3rd Floor – University Center (Blackwood Campus) \nTime: 8:30 a.m. – 4p.m. \nWalk-ins Welcome! \n  \nCurrent CCC students interested in receiving additional or service accommodations for this event\, should reach out to The Accessibility Center at accessibilityservice@camdencc.edu or (856) 227-7200 ext. 4430.
URL:https://www.camdencc.edu/event/advising-day-stockton-university-4/
LOCATION:Taft Hall\, 3rd Floor
CATEGORIES:Blackwood Campus,General Event,Stockton University,Transfer Events
ORGANIZER;CN="Transfer Services":MAILTO:transferservices@camdencc.edu
END:VEVENT
BEGIN:VEVENT
DTSTART;TZID=America/New_York:20260310T100000
DTEND;TZID=America/New_York:20260310T140000
DTSTAMP:20260419T124322
CREATED:20260220T200643Z
LAST-MODIFIED:20260220T200703Z
UID:10003674-1773136800-1773151200@www.camdencc.edu
SUMMARY:4-Year College Visit @ Blackwood: Grand Canyon University
DESCRIPTION:Sart thinking about the transfer process to a four-year institution! Stop by and speak to the transfer representative from Grand Canyon University to learn more about the admissions process\, partnership\, STEM majors\, scholarships\, GPA requirements\, student life\, and application deadlines! \nPlease note this table visit is located in the 1st Floor Lobby of Halpern Hall. \nCurrent CCC students interested in receiving additional or service accommodations for this event\, should reach out to The Accessibility Center at accessibilityservice@camdencc.edu or (856) 227-7200 ext. 4430.
URL:https://www.camdencc.edu/event/4-year-college-visit-blackwood-grand-canyon-university/
LOCATION:Halpern Hall Lobby\, 200 College Drive\, Blackwood\, NJ\, 08012
CATEGORIES:Blackwood Campus,College Table Visits,General Event,Transfer Events
ORGANIZER;CN="Transfer Services":MAILTO:transferservices@camdencc.edu
END:VEVENT
BEGIN:VEVENT
DTSTART;TZID=America/New_York:20260311T093000
DTEND;TZID=America/New_York:20260311T133000
DTSTAMP:20260419T124322
CREATED:20260123T185632Z
LAST-MODIFIED:20260123T185653Z
UID:10003666-1773221400-1773235800@www.camdencc.edu
SUMMARY:Advising Day: Rowan University
DESCRIPTION:Meet with Rowan’s Coordinator of University Transfer Services\, Mayra Arroyo to learn more about the transfer onboarding process\, review of TREQ\, scholarships\, and student life at Rowan. \nLocated on the 3rd floor of Taft\, Mayra is happy to meet with students on a walk-in basis from 9:30 a.m. – 1:30 p.m. \n  \nCurrent CCC students interested in receiving additional or service accommodations for this event\, should reach out to The Accessibility Center at accessibilityservice@camdencc.edu or (856) 227-7200 ext. 4430.
URL:https://www.camdencc.edu/event/advising-day-rowan-university-5/
LOCATION:Taft Hall\, 3rd Floor
CATEGORIES:Advisement Day,Blackwood Campus,General Event,Rowan Advisement Day,Rowan University,Transfer Events
ORGANIZER;CN="Transfer Services":MAILTO:transferservices@camdencc.edu
END:VEVENT
BEGIN:VEVENT
DTSTART;TZID=America/New_York:20260311T100000
DTEND;TZID=America/New_York:20260311T140000
DTSTAMP:20260419T124322
CREATED:20251106T171141Z
LAST-MODIFIED:20251119T141612Z
UID:10001736-1773223200-1773237600@www.camdencc.edu
SUMMARY:4-Year College Visit @ Blackwood: Thomas Edison State University & The College of New Jersey
DESCRIPTION:Start thinking about the transfer process to a four-year institution! Stop by and speak to the transfer representatives from Thomas Edison State University and The College of New Jersey to learn more about the admissions process\, scholarships\, GPA requirements\, student life\, and application deadlines! \nPlease note this table visit is located in the Connector Terrace on the Blackwood Campus in the Connector Building. \nCurrent CCC students interested in receiving additional or service accommodations for this event\, should reach out to The Accessibility Center at accessibilityservice@camdencc.edu or (856) 227-7200 ext. 4430.
URL:https://www.camdencc.edu/event/4-year-college-visit-blackwood-thomas-edison-state-university/
LOCATION:Connector Terrace – 2nd Floor\, 200 College Dr\, Blackwood\, New Jersey\, 08012
CATEGORIES:Blackwood Campus,College Table Visits,General Event,Transfer Events
ORGANIZER;CN="Transfer Services":MAILTO:transferservices@camdencc.edu
END:VEVENT
BEGIN:VEVENT
DTSTART;TZID=America/New_York:20260320T113000
DTEND;TZID=America/New_York:20260320T160000
DTSTAMP:20260419T124322
CREATED:20260309T190900Z
LAST-MODIFIED:20260309T190900Z
UID:10003700-1774006200-1774022400@www.camdencc.edu
SUMMARY:Advising Day: Stockton University
DESCRIPTION:Are you interested in transferring to Stockton University? Meet with James Rodia\, Assistant Director of Admissions and Transfer Coordinator for Stockton University. He’ll go over the CCC-Stockton Transfer Pathways Program\, degree offerings\, transfer process to Stockton\, and scholarships during his fall advising days. No appointments are needed! \n  \nWhere: Taft 3rd Floor – University Center (Blackwood Campus) \nTime: 11:30 a.m. – 4p.m. \nWalk-ins Welcome! \n  \nCurrent CCC students interested in receiving additional or service accommodations for this event\, should reach out to The Accessibility Center at accessibilityservice@camdencc.edu or (856) 227-7200 ext. 4430.
URL:https://www.camdencc.edu/event/advising-day-stockton-university-2/
LOCATION:Taft Hall\, 3rd Floor
CATEGORIES:Advisement Day,Blackwood Campus,General Event,Stockton,Stockton University,Transfer Events
ORGANIZER;CN="Transfer Services":MAILTO:transferservices@camdencc.edu
END:VEVENT
BEGIN:VEVENT
DTSTART;TZID=America/New_York:20260323T083000
DTEND;TZID=America/New_York:20260323T160000
DTSTAMP:20260419T124322
CREATED:20260115T164213Z
LAST-MODIFIED:20260115T164213Z
UID:10001807-1774254600-1774281600@www.camdencc.edu
SUMMARY:Advising Day: Stockton University
DESCRIPTION:Are you interested in transferring to Stockton University? Meet with James Rodia\, Assistant Director of Admissions and Transfer Coordinator for Stockton University. He’ll go over the CCC-Stockton Transfer Pathways Program\, degree offerings\, transfer process to Stockton\, and scholarships during his fall advising days. No appointments are needed! \n  \nWhere: Taft 3rd Floor – University Center (Blackwood Campus) \nTime: 8:30 a.m. – 4p.m. \nWalk-ins Welcome! \n  \nCurrent CCC students interested in receiving additional or service accommodations for this event\, should reach out to The Accessibility Center at accessibilityservice@camdencc.edu or (856) 227-7200 ext. 4430.
URL:https://www.camdencc.edu/event/advising-day-stockton-university-11/
LOCATION:Taft Hall\, 3rd Floor
CATEGORIES:Blackwood Campus,General Event,Stockton University,Transfer Events
ORGANIZER;CN="Transfer Services":MAILTO:transferservices@camdencc.edu
END:VEVENT
BEGIN:VEVENT
DTSTART;TZID=America/New_York:20260326T100000
DTEND;TZID=America/New_York:20260326T140000
DTSTAMP:20260419T124322
CREATED:20260113T191146Z
LAST-MODIFIED:20260203T151352Z
UID:10001800-1774519200-1774533600@www.camdencc.edu
SUMMARY:4-Year College Visit @ Blackwood: Felician University\, Rowan University & Wilmington University
DESCRIPTION:Start thinking about the transfer process to a four-year institution! Stop by and speak to the transfer representatives from  Rowan University\, Felician University\, and Wilmington University to learn more about the admissions process\, scholarships\, GPA requirements\, student life\, and application deadlines! \nPlease note this table visit is located in the Connector Terrace on the Blackwood Campus in the Connector Building. \nCurrent CCC students interested in receiving additional or service accommodations for this event\, should reach out to The Accessibility Center at accessibilityservice@camdencc.edu or (856) 227-7200 ext. 4430.
URL:https://www.camdencc.edu/event/4-year-college-visit-blackwood-rider-university-and-felician-university/
LOCATION:Connector Terrace – 2nd Floor\, 200 College Dr\, Blackwood\, New Jersey\, 08012
CATEGORIES:Blackwood Campus,College Table Visits,General Event,Transfer Events,Wilmington University
ORGANIZER;CN="Transfer Services":MAILTO:transferservices@camdencc.edu
END:VEVENT
BEGIN:VEVENT
DTSTART;TZID=America/New_York:20260327T100000
DTEND;TZID=America/New_York:20260327T150000
DTSTAMP:20260419T124322
CREATED:20260312T160338Z
LAST-MODIFIED:20260312T160338Z
UID:10003704-1774605600-1774623600@www.camdencc.edu
SUMMARY:IDEAS Grant Workshop
DESCRIPTION:Build IDEAS with Us! \nJoin us as we celebrate the launch of the IDEAS Grant\, a new consortium partnership with Rutgers University–Camden aimed at expanding capacity for study abroad opportunities. \nThis kickoff event will feature a full day of informative sessions exploring the impact of taking learning beyond the classroom\, across borders and into the world. Presentations and discussions will be led by members of Rutgers–Camden’s Learning Abroad Program alongside CCC faculty and staff\, highlighting topics such as student engagement\, administrative capacity building\, and the design and implementation of study abroad programs. \nFaculty\, staff\, and students are all encouraged to attend\, share ideas\, and participate in brainstorming ways to expand experiential learning and create more global opportunities for our students. \nThe event will take place primarily in the Atrium and Civic Hall\, with breakout sessions held in Madison classrooms.
URL:https://www.camdencc.edu/event/ideas-grant-workshop/
LOCATION:Atrium of the Connector Building\, 200 College Drive\, Blackwood\, NJ\, 08012
CATEGORIES:Blackwood Campus,Campus Life,General Event
END:VEVENT
BEGIN:VEVENT
DTSTART;TZID=America/New_York:20260331T100000
DTEND;TZID=America/New_York:20260331T180000
DTSTAMP:20260419T124322
CREATED:20260112T164156Z
LAST-MODIFIED:20260211T213943Z
UID:10001796-1774951200-1774980000@www.camdencc.edu
SUMMARY:Instant Decision Day: Rutgers University - Camden & Blackwood
DESCRIPTION:INSTANT DECISION DAY* \nLooking to transfer to Rutgers University – Camden or to an off-campus Rutgers-Blackwood program\, then sign-up for Instant Decision Day. During this event\, students can meet with an admissions counselor who will review their completed application and transcript(s) and provide a same-day admissions decision. Please note\, this is for Fall 2026 admission only. \n*The $70 application fee is waived for students who participate in IDD. \nEligibility requirements:  \n\nA minimum of 45 credits towards the completion of an Associate’s Degree with the intent to complete the Associate’s Degree prior to enrollment at Rutgers.\nReady to start at Rutgers in Spring 2026.\nInterest in a Rutgers-Camden or Rutgers-Blackwood Program\n\nIf you are applying as a Nursing major\, please reach out to the email below because not all Nursing Programs are eligible for this event. \n\n\n\nThis event is APPOINTMENT ONLY!  Students can select an in-person or virtual meeting for the appointment. Email rutgers-ccc@docs.rutgers.edu to schedule an appointment.
URL:https://www.camdencc.edu/event/instant-decision-day-rutgers-university-camden-blackwood-5/
LOCATION:CIM 301\, NJ
CATEGORIES:Blackwood Campus,General Event,Instant Decision Day,Premier Partnership,Rutgers @ Camden County College,Rutgers Camden,Transfer Events,Virtual Instant Decision Day
ORGANIZER;CN="Transfer Services":MAILTO:transferservices@camdencc.edu
END:VEVENT
END:VCALENDAR