BEGIN:VCALENDAR
VERSION:2.0
PRODID:-//Camden County College - ECPv6.15.18//NONSGML v1.0//EN
CALSCALE:GREGORIAN
METHOD:PUBLISH
X-WR-CALNAME:Camden County College
X-ORIGINAL-URL:https://www.camdencc.edu
X-WR-CALDESC:Events for Camden County College
REFRESH-INTERVAL;VALUE=DURATION:PT1H
X-Robots-Tag:noindex
X-PUBLISHED-TTL:PT1H
BEGIN:VTIMEZONE
TZID:America/New_York
BEGIN:DAYLIGHT
TZOFFSETFROM:-0500
TZOFFSETTO:-0400
TZNAME:EDT
DTSTART:20250309T070000
END:DAYLIGHT
BEGIN:STANDARD
TZOFFSETFROM:-0400
TZOFFSETTO:-0500
TZNAME:EST
DTSTART:20251102T060000
END:STANDARD
BEGIN:DAYLIGHT
TZOFFSETFROM:-0500
TZOFFSETTO:-0400
TZNAME:EDT
DTSTART:20260308T070000
END:DAYLIGHT
BEGIN:STANDARD
TZOFFSETFROM:-0400
TZOFFSETTO:-0500
TZNAME:EST
DTSTART:20261101T060000
END:STANDARD
BEGIN:DAYLIGHT
TZOFFSETFROM:-0500
TZOFFSETTO:-0400
TZNAME:EDT
DTSTART:20270314T070000
END:DAYLIGHT
BEGIN:STANDARD
TZOFFSETFROM:-0400
TZOFFSETTO:-0500
TZNAME:EST
DTSTART:20271107T060000
END:STANDARD
END:VTIMEZONE
BEGIN:VEVENT
DTSTART;TZID=America/New_York:20260224T080000
DTEND;TZID=America/New_York:20260515T233000
DTSTAMP:20260421T031103
CREATED:20260224T173338Z
LAST-MODIFIED:20260319T153124Z
UID:10003679-1771920000-1778887800@www.camdencc.edu
SUMMARY:Apply Now! Neumann University Full-Tuition Scholarship
DESCRIPTION:Neumann University (NU) Full-Tuition Scholarship\nNeumann University’s (NU) Full-Tuition Scholarship for Camden County College (CCC) is available to make your education goals even more affordable! The scholarship covers all tuition for the recipient’s two years at Neumann! NU enjoys a robust partnership with CCC to foster a stronger bachelors completion rate with their students. For students entering Fall 2026\, NU will award one student from CCC a Full-Tuition Scholarship! Students must complete the Full-Tuition Scholarship Application form by May 15 and obtain their associates degree before entering NU in the fall.* \n*Students must apply to Neumann University by completing a transfer application prior to applying for the scholarship! \nAPPLY TODAY! \nEligibility\n\nIntend to earn an associate’s degree from Camden County College prior to enrollment at Neumann University\nBe admitted to Neumann University before submitting this application\nIntend to enroll full-time at Neumann University for Fall 2026\nEngage in community service/extracurricular activities\nComplete FAFSA (www.fafsa.ed.gov)\, if eligible\, before submitting this application and include Neumann University (003988)\nA 3.0 Overall Grade Point Average (on a 4.0 scale) is preferred\, however those with a lower GPA are still encouraged to apply\n\nApplication Guidelines\n\nComplete this application by May 15\, 2026\nSubmit Essay as part of application\nSubmit Resume as part of application\n\nSelection Timeline\nFinal awardees will be selected by a committee at Neumann and contacted by the end of May \nIf selected\, this scholarship will cover the cost of full-time undergraduate tuition. Any other expenses\, such as fees\, housing\, or meal plan will be the responsibility of the recipient. If you have questions\, please contact Christina Irby\, Neumann Assistant Director of Undergraduate Admissions at irbyc@neumann.edu or (610) 361-5247.
URL:https://www.camdencc.edu/event/neumann-university-full-tuition-scholarship/
LOCATION:NJ
CATEGORIES:Neumann University,Transfer Scholarship,Virtual,Virtual Transfer,_HIDE FROM HOMEPAGE
ORGANIZER;CN="Transfer Services":MAILTO:transferservices@camdencc.edu
END:VEVENT
BEGIN:VEVENT
DTSTART;TZID=America/New_York:20260421T090000
DTEND;TZID=America/New_York:20260421T120000
DTSTAMP:20260421T031103
CREATED:20260323T123852Z
LAST-MODIFIED:20260323T124831Z
UID:10003711-1776762000-1776772800@www.camdencc.edu
SUMMARY:Earth Day - Camden City Campus
DESCRIPTION:9:00: Americorps volunteers: Watershed Conservation\n10:00: Valerie Brown\, Camden County Office of Sustainability:\n Building a Sustainable Community: Camden County Shaping Our Future\n11:00 In-house Insights\n Andrew Woodworth\, CCC Library:\n “The Cost of AI: When you ask AI to write your paper”\n Dr. Gail Stewart\, Biology Dept: Practical Tips for Fighting Fast Fashion: Reconsider\, Repair\, Reclaim\n Dean John Steiner: Bird Banding as
URL:https://www.camdencc.edu/event/earth-day-camden-city-campus/
LOCATION:CTC Auditorium\, 200 N Broadway\, Camden\, New Jersey\, 08102
CATEGORIES:General Event,Student Life & Activities
ORGANIZER;CN="Dan Flisser":MAILTO:dflisser@camdencc.edu
END:VEVENT
BEGIN:VEVENT
DTSTART;TZID=America/New_York:20260421T100000
DTEND;TZID=America/New_York:20260421T140000
DTSTAMP:20260421T031103
CREATED:20251209T164602Z
LAST-MODIFIED:20260203T152011Z
UID:10001775-1776765600-1776780000@www.camdencc.edu
SUMMARY:4-Year College Visits @ Camden City: Southern New Hampshire University & Rowan University
DESCRIPTION:Start thinking about the transfer process to a four-year institution! Stop by and speak to the transfer representative from Southern New Hampshire University & Rowan University to learn more about the admissions process\, scholarships\, GPA requirements\, student life\, and application deadlines! \nPlease note this table visit is located in the CTC Building\, 2nd Floor Lobby. \nCurrent CCC students interested in receiving additional or service accommodations for this event\, should reach out to The Accessibility Center at accessibilityservice@camdencc.edu or (856) 227-7200 ext. 4430.
URL:https://www.camdencc.edu/event/4-year-college-visits-camden-city-southern-new-hampshire-university/
LOCATION:CTC Lobby\, NJ
CATEGORIES:Camden City Campus,College Table Visits,General Event,Transfer Events
ORGANIZER;CN="Transfer Services":MAILTO:transferservices@camdencc.edu
END:VEVENT
BEGIN:VEVENT
DTSTART;TZID=America/New_York:20260421T110000
DTEND;TZID=America/New_York:20260421T130000
DTSTAMP:20260421T031103
CREATED:20260319T180216Z
LAST-MODIFIED:20260319T180256Z
UID:10003710-1776769200-1776776400@www.camdencc.edu
SUMMARY:Financial Literacy workshop - Downpayment Assistance Programs
DESCRIPTION:Financial Literacy workshop series – CCC in collaboration with Fulton Bank\n\n\n                \n                        CompanyThis field is for validation purposes and should be left unchanged.First Name(Required)Last Name(Required)Student Email(Required)\n                            \n                        Select a Workshop(Required)\n			\n					\n					Building CreditTuesday\, March 24\, 2026\n			\n			\n					\n					Downpayment Assistance ProgramsTuesday\, April 21\, 2026\n			Building Credit(Required)\n			\n					\n					 In Person  - Blackwood Campus\, Student Success and Retention Center\, Taft Hall Room 105 - 11:00 a.m.\n			\n			\n					\n					Virtual Option  -  Zoom Link -  5:30 p.m.  A Zoom link will be sent prior to the workshop date.\n			Downpayment Assistance Programs(Required)\n			\n					\n					 In Person  - Blackwood Campus\, Student Success and Retention Center\, Taft Hall Room 105 - 11:00 a.m.\n			\n			\n					\n					Virtual Option  -  Zoom Link -  5:30 p.m.  A Zoom link will be sent prior to the workshop date.\n			Please list any food allergies or restrictions(Required)
URL:https://www.camdencc.edu/event/financial-literacy-workshop-building-credit-2/
LOCATION:Taft Hall Room 105\, 200 College Drive\, Blackwood\, 08012\, United States
CATEGORIES:General Event,Student Life & Activities,Student Success and Retention Center
ORGANIZER;CN="Division of Student Success and Retention":MAILTO:astewart@camdencc.edu
END:VEVENT
BEGIN:VEVENT
DTSTART;TZID=America/New_York:20260421T120000
DTEND;TZID=America/New_York:20260421T140000
DTSTAMP:20260421T031103
CREATED:20260225T150827Z
LAST-MODIFIED:20260225T175955Z
UID:10003681-1776772800-1776780000@www.camdencc.edu
SUMMARY:Application Workshop: Rutgers University
DESCRIPTION:Thinking of applying to Rutgers University but not sure where to start? We’re hosting a Rutgers Application Workshop to help you feel confident every step of the way! We’ll walk you through the application\, share insider tips\, help you avoid common mistakes\, and answer your questions! Whether you’re just getting started or putting on the final touches\, this workshop is for you! Spots are limited\, so don’t wait! \nRegistration link will be available soon. For more information – please contact rutgers-ccc@docs.rutgers.edu \n*This event will take place in the conference area of the 3rd Floor of Taft in the area of the Advisement Center. \n**Please note students must bring their own lap top to this event!**
URL:https://www.camdencc.edu/event/application-workshop-rutgers-university-3/
LOCATION:Taft Hall\, 3rd Floor
CATEGORIES:Blackwood Campus,General Event,Rutgers @ Camden County College,Rutgers Camden,Transfer Events
ORGANIZER;CN="Transfer Services":MAILTO:transferservices@camdencc.edu
END:VEVENT
END:VCALENDAR