BEGIN:VCALENDAR
VERSION:2.0
PRODID:-//Camden County College - ECPv6.15.18//NONSGML v1.0//EN
CALSCALE:GREGORIAN
METHOD:PUBLISH
X-ORIGINAL-URL:https://www.camdencc.edu
X-WR-CALDESC:Events for Camden County College
REFRESH-INTERVAL;VALUE=DURATION:PT1H
X-Robots-Tag:noindex
X-PUBLISHED-TTL:PT1H
BEGIN:VTIMEZONE
TZID:America/New_York
BEGIN:DAYLIGHT
TZOFFSETFROM:-0500
TZOFFSETTO:-0400
TZNAME:EDT
DTSTART:20250309T070000
END:DAYLIGHT
BEGIN:STANDARD
TZOFFSETFROM:-0400
TZOFFSETTO:-0500
TZNAME:EST
DTSTART:20251102T060000
END:STANDARD
BEGIN:DAYLIGHT
TZOFFSETFROM:-0500
TZOFFSETTO:-0400
TZNAME:EDT
DTSTART:20260308T070000
END:DAYLIGHT
BEGIN:STANDARD
TZOFFSETFROM:-0400
TZOFFSETTO:-0500
TZNAME:EST
DTSTART:20261101T060000
END:STANDARD
BEGIN:DAYLIGHT
TZOFFSETFROM:-0500
TZOFFSETTO:-0400
TZNAME:EDT
DTSTART:20270314T070000
END:DAYLIGHT
BEGIN:STANDARD
TZOFFSETFROM:-0400
TZOFFSETTO:-0500
TZNAME:EST
DTSTART:20271107T060000
END:STANDARD
END:VTIMEZONE
BEGIN:VEVENT
DTSTART;VALUE=DATE:20260206
DTEND;VALUE=DATE:20260313
DTSTAMP:20260422T073118
CREATED:20260121T152222Z
LAST-MODIFIED:20260311T122532Z
UID:10001816-1770336000-1773359999@www.camdencc.edu
SUMMARY:New Myths & Archetypes: Finding the Story an exhibition in the Marlin Gallery
DESCRIPTION:February 6 – March 12\, 2026\nArtist Reception: Thursday\, February 19\, 5-7pm\nArtists: Lea Barone\, Anthony Ciambella\, Mikel Elam\, Richard Ranck \nGallery Hours:\nMonday – Friday: 10:00 a.m. to 5:00 p.m.\nEvenings and Weekends by request
URL:https://www.camdencc.edu/event/new-myths-archetypes-finding-the-story-an-exhibition-in-the-marlin-gallery/2026-02-06/1/
LOCATION:NJ
CATEGORIES:Arts,Marlin Art Gallery,No Homepage
END:VEVENT
BEGIN:VEVENT
DTSTART;TZID=America/New_York:20260217T100000
DTEND;TZID=America/New_York:20260217T140000
DTSTAMP:20260422T073118
CREATED:20251106T185347Z
LAST-MODIFIED:20251106T185347Z
UID:10001741-1771322400-1771336800@www.camdencc.edu
SUMMARY:4-Year College Visits @ Camden City: Immaculata University and Chestnut Hill College
DESCRIPTION:Start thinking about the transfer process to a four-year institution! Stop by and speak to the transfer representative from Immaculata University and Chestnut Hill College  to learn more about the admissions process\, scholarships\, GPA requirements\, student life\, and application deadlines! \nPlease note this table visit is located in the CTC Building\, 2nd Floor Lobby. \nCurrent CCC students interested in receiving additional or service accommodations for this event\, should reach out to The Accessibility Center at accessibilityservice@camdencc.edu or (856) 227-7200 ext. 4430.
URL:https://www.camdencc.edu/event/4-year-college-visits-camden-city-immaculata-university-and-chestnut-hill-college/
LOCATION:CTC Lobby\, NJ
CATEGORIES:Camden City Campus,College Table Visits,General Event,Transfer Events
ORGANIZER;CN="Transfer Services":MAILTO:transferservices@camdencc.edu
END:VEVENT
END:VCALENDAR