BEGIN:VCALENDAR
VERSION:2.0
PRODID:-//Camden County College - ECPv6.15.18//NONSGML v1.0//EN
CALSCALE:GREGORIAN
METHOD:PUBLISH
X-ORIGINAL-URL:https://www.camdencc.edu
X-WR-CALDESC:Events for Camden County College
REFRESH-INTERVAL;VALUE=DURATION:PT1H
X-Robots-Tag:noindex
X-PUBLISHED-TTL:PT1H
BEGIN:VTIMEZONE
TZID:America/New_York
BEGIN:DAYLIGHT
TZOFFSETFROM:-0500
TZOFFSETTO:-0400
TZNAME:EDT
DTSTART:20250309T070000
END:DAYLIGHT
BEGIN:STANDARD
TZOFFSETFROM:-0400
TZOFFSETTO:-0500
TZNAME:EST
DTSTART:20251102T060000
END:STANDARD
BEGIN:DAYLIGHT
TZOFFSETFROM:-0500
TZOFFSETTO:-0400
TZNAME:EDT
DTSTART:20260308T070000
END:DAYLIGHT
BEGIN:STANDARD
TZOFFSETFROM:-0400
TZOFFSETTO:-0500
TZNAME:EST
DTSTART:20261101T060000
END:STANDARD
BEGIN:DAYLIGHT
TZOFFSETFROM:-0500
TZOFFSETTO:-0400
TZNAME:EDT
DTSTART:20270314T070000
END:DAYLIGHT
BEGIN:STANDARD
TZOFFSETFROM:-0400
TZOFFSETTO:-0500
TZNAME:EST
DTSTART:20271107T060000
END:STANDARD
END:VTIMEZONE
BEGIN:VEVENT
DTSTART;TZID=America/New_York:20260129T150000
DTEND;TZID=America/New_York:20260129T160000
DTSTAMP:20260420T141402
CREATED:20251029T142841Z
LAST-MODIFIED:20251029T154438Z
UID:10001730-1769698800-1769702400@www.camdencc.edu
SUMMARY:Virtual PN & LPN to RN Applications Q&A Sessions
DESCRIPTION:Meet with a member of the Nursing Department via Zoom during one of the scheduled times below to ask questions about the PN or LPN to RN application.\nThursdays 3:00 – 4:00 pm \nTo better assist you\, please thoroughly read the application booklet and write down any questions you have. Applications may be found on our webpage www.camdencc.edu/nursing. \n\n\n                \n                        First Name(Required)Last Name(Required)CCC Student Email(Required)\n                            \n                        PhoneI need help with the\n			\n					\n					PN Application\n			\n			\n					\n					LPN to RN Application\n			Session(Required)\n			\n					\n					12/18/25 @ 3:00pm\n			\n			\n					\n					1/22/26 @ 3:00pm\n			\n			\n					\n					1/29/26 @ 3:00pm\n			\n          \n            \n            \n            \n            \n            \n            \n            \n            \n            \n            \n            \n            \n            \n        \n                        \n                        \n\n*Note: This is NOT a Nursing Information Session that provides an overview of the nursing options at CCC. For one of these instead\, please register on https://www.camdencc.edu/events/category/nursing/list/
URL:https://www.camdencc.edu/event/virtual-pn-lpn-to-rn-applications-qa-sessions-6/
LOCATION:Virtual\, NJ
CATEGORIES:Nursing Q&A
ORGANIZER;CN="Nursing Dept":MAILTO:nursing@camdencc.edu
END:VEVENT
BEGIN:VEVENT
DTSTART;TZID=America/New_York:20260129T180000
DTEND;TZID=America/New_York:20260129T210000
DTSTAMP:20260420T141402
CREATED:20251125T101758Z
LAST-MODIFIED:20251125T101758Z
UID:10001769-1769709600-1769720400@www.camdencc.edu
SUMMARY:AUDITIONS: Snow White
DESCRIPTION:All performers are invited to audition for Camden County College’s spring production of Snow White\, a playful\, puppet filled re-telling of the classic tale. \nIn this updated version\, the Witch was the fairest one of all first\, and she will not be silenced any longer. The story unfolds from the villain’s point of view\, following her from tragic childhood to her quest for revenge. Along the way we meet seven quirky dwarves\, a tongue-tied prince\, a sassy mirror\, a dancing chicken\, and of course Snow White\, in a tale about beauty\, friendship\, and happily ever after with a twist. \nPerformance Details \n\nRun: April 27 through May 1\, 2026\nPerformances: Daytime and evening shows for local schools and public audiences\nVenue: Little Theatre\, Lincoln Hall\, Camden County College\n\nAudition Information \n\nDate: January 29\nTime: 6:00 pm\nLocation: Little Theatre\, Lincoln Hall\nWhat to Prepare: A monologue of no more than 2 minutes. If you do not have a prepared monologue\, script material will be provided at the audition.\nPuppetry experience is welcome but not required. All roles are open to CCC students and community members.\n\nSIGN UP NOW
URL:https://www.camdencc.edu/event/auditions-snow-white/
LOCATION:The Little Theater\, Lincoln Hall\, 200 College Drive\, Blackwood\, 08012\, United States
CATEGORIES:Arts,Student Life & Activities
END:VEVENT
END:VCALENDAR